BEGIN:VCALENDAR
VERSION:2.0
PRODID:-//Croydon Outdoor Pursuits &amp; Social Events Club - ECPv6.15.20//NONSGML v1.0//EN
CALSCALE:GREGORIAN
METHOD:PUBLISH
X-WR-CALNAME:Croydon Outdoor Pursuits &amp; Social Events Club
X-ORIGINAL-URL:https://www.copsecroydon.co.uk
X-WR-CALDESC:Events for Croydon Outdoor Pursuits &amp; Social Events Club
REFRESH-INTERVAL;VALUE=DURATION:PT1H
X-Robots-Tag:noindex
X-PUBLISHED-TTL:PT1H
BEGIN:VTIMEZONE
TZID:Europe/London
BEGIN:DAYLIGHT
TZOFFSETFROM:+0000
TZOFFSETTO:+0100
TZNAME:BST
DTSTART:20240331T010000
END:DAYLIGHT
BEGIN:STANDARD
TZOFFSETFROM:+0100
TZOFFSETTO:+0000
TZNAME:GMT
DTSTART:20241027T010000
END:STANDARD
BEGIN:DAYLIGHT
TZOFFSETFROM:+0000
TZOFFSETTO:+0100
TZNAME:BST
DTSTART:20250330T010000
END:DAYLIGHT
BEGIN:STANDARD
TZOFFSETFROM:+0100
TZOFFSETTO:+0000
TZNAME:GMT
DTSTART:20251026T010000
END:STANDARD
BEGIN:DAYLIGHT
TZOFFSETFROM:+0000
TZOFFSETTO:+0100
TZNAME:BST
DTSTART:20260329T010000
END:DAYLIGHT
BEGIN:STANDARD
TZOFFSETFROM:+0100
TZOFFSETTO:+0000
TZNAME:GMT
DTSTART:20261025T010000
END:STANDARD
END:VTIMEZONE
BEGIN:VEVENT
DTSTART;TZID=Europe/London:20250204T201500
DTEND;TZID=Europe/London:20250204T220000
DTSTAMP:20260420T001216
CREATED:20241220T013215Z
LAST-MODIFIED:20250125T211057Z
UID:6089-1738700100-1738706400@www.copsecroydon.co.uk
SUMMARY:Builders Arms Quiz
DESCRIPTION:Dear Non-Skiers\, \nAs many of us will not be away to the mountains for physical exercise in the snow\, we plan to join up for some mental exercise at the pub quiz put on by “The Builders Arms”.  I have been able to reserve tables for three Club teams of six people in each.  Some COPSErs have already contacted me to go on our list but there remain vacancies so please let me know if you can join us. \nOur Club has competed at this pub several times previously – but never been the winners!  We shall try yet again!! \nThe quiz begins at 9pm but\, usually\, most of us gather by about 8pm to order food and share a social chat.  The cost\, per person\, to engage in this brain strain will be £1\, collected on the night. \nThe pub is on Leslie Park Road\, off Cherry Orchard Road.  Map link: \nhttps://www.google.com/maps/place/The+Builders+Arms\,+65+Leslie+Park+Rd\,+Croydon+CR0+6TP/@51.3795193\,-0.0883854\,17z/data=!4m6!3m5!1s0x487600d1c1496087:0x2875af15ab41667a!8m2!3d51.3794959!4d-0.0858239!16s%2Fg%2F1tgf2pmv?entry=ttu \nWhat3Words: https://w3w.co/locker.hotels.owner \nThe new management since our last visit there tell me they now have a new and varied menu available: \nhttps://buildersarmscroydon.co.uk/admin/upload_file/menus/7hbmj70v4q.pdf \nPlease note\, there will be not be a COPSE meeting at our South Croydon hall.  Do let me know\, a.s.a.p.\, if you plan to come to the quiz so that you can secure your place on the list. \nRegards\, \n  \nIreen Best (07968 035522) \n 
URL:https://www.copsecroydon.co.uk/event/builders-arms-quiz-6/
LOCATION:Builder’s Arms Pub\, 65 Leslie Park Road\, Croydon\, CR0 6TP
CATEGORIES:Tuesday Club Nights
ATTACH;FMTTYPE=image/jpeg:https://www.copsecroydon.co.uk/wp-content/uploads/2024/01/Click-for-details-e1705192467442.jpg
END:VEVENT
BEGIN:VEVENT
DTSTART;TZID=Europe/London:20250211T201500
DTEND;TZID=Europe/London:20250211T220000
DTSTAMP:20260420T001216
CREATED:20241220T013335Z
LAST-MODIFIED:20250208T164256Z
UID:6091-1739304900-1739311200@www.copsecroydon.co.uk
SUMMARY:Wine Tasting
DESCRIPTION:Alan’s Tour de France!\n \nAlan says: \nHello campers\, \nThe pressganger general has paid me a visit and as a result I have now been convinced of my desire to do a wine tasting for COPSE.  Although what a scouse knows about wine (apart from that it contains alcohol) I don’t know. \nAs per the previous wine tastings I’ve done there are a couple of basic constraints placed on the operation. \nConstraints\nFirstly\, all wines come from Europe\,  none of this new world stuff.  So if trash like Yellowtail Chardonnay floats your boat\,  this boat is not for you. \nSecondly\, cultivar is not at all important\,  in fact it is undesirable.  Growing up in South Africa the rules meant blended wines were frowned on.  Like the French\,  I believe blending delivers a better result.  So blended wine you will get. \nThirdly this is not for wine snobs. If you want to determine the presence of blackcurrants\, pepper\, raspberries\, mango\,  God knows what else this isn’t for you.  This is about simple enjoyment\,  preferably with company that does float your boat. \nTheme\nThe theme is France\,  and what kind of wine makes you happy.  To this end we will try 2 whites\,  2 rose wines and 2 reds.  For each type one will be budget and one will be more upmarket.  You decide what you like & if the upmarket wine price is worth it.  The idea is to determine whether it is worth paying more for a wine with better provenance.  There are no right answers\,  only what you think is best. \nSo come along\,  get (very slightly)  squiffy\,  tell teacher (aka me) what you think of him & go home merry. \nPrompt start at 8:30 please.  NB.  Don’t forget your £3 cash for the wine!!  (No charge if you’re not partaking and just want to say hello)!
URL:https://www.copsecroydon.co.uk/event/wine-tasting-4/
LOCATION:South Croydon United Church Hall\, Aberdeen Road\, South Croydon\, CR0 1EQ\, United Kingdom
CATEGORIES:Tuesday Club Nights
END:VEVENT
BEGIN:VEVENT
DTSTART;TZID=Europe/London:20250218T201500
DTEND;TZID=Europe/London:20250218T220000
DTSTAMP:20260420T001216
CREATED:20241220T013444Z
LAST-MODIFIED:20250217T003846Z
UID:6094-1739909700-1739916000@www.copsecroydon.co.uk
SUMMARY:Outing - Tenpin Bowling at Valley Park
DESCRIPTION:The Kentones Barbershop Choir\, originally planned for this date\, is postponed. We have provisionally rescheduled for April\, to be confirmed. \nPlease note change of game time\, below. \nWe’re Going Bowling Again\nBack by popular demand! A party of COPSE’s finest athletes have enjoyed this outing several times now\, so we’re doing it again.I’ll book (and pay for) as many lanes as we have players for\, maximum six to a lane. \nBut how do I sign up for this event?\n… you may ask. Well\, here’s the answer: \nTell me by the end of Saturday 15th February if you’re coming. I’ll take emails\, text messages\, Whatsapps\, even old fashioned phone calls. \n. . . . and how do I pay?\nBy signing up you commit to paying me the outrageously reasonable sum of £8.15. Averse as I am to handling change\, I prefer direct payments to my bank\, the sooner the better. Ask me for how. \nThe Details\nYou can\, of course\, just turn up to enjoy the social setting and company of your fellow COPSErs for no charge. \nIf you don’t know the place\, the Tenpin Bowl offers a variety of activities besides bowling – table tennis\, pool\, arcade games plus café and bar – so you can diversify once there. Also\, for eating\, there are various fooderies around including Creams Café\, Frankie & Bennie’s\, Chiquito\, McDonalds and Burger King. \nIn summary:\n\n\n\n\nWhere?\n\nTenpinValley Park Leisure ComplexHesterman WayCroydon CR0 4YA\n\n\n\nWhen?\n\n\nLanes will be booked for 8.30. Arrive between 8.00 and  8.15 to be ready to play. \nUpdate after booking: Lanes are booked for 9.30. Arrive by 9.15 to be ready to play. \n\n\n\n\nGetting there?\n\nTram: Ampere Way (9 minute walk\, says Google)\n  \nBuses: \nS4 to Franklin Way / Valley Park (8 minute walk) \n189 to Purley Way / Newman Road (12 minute walk) Alternatively\, plenty of car parking.\n\n\n\nHow much?\n\n£8.15 up front for two games\, more on the night if you want to play more\n\n\n \n \n\n\n\nShoe Policy\nI’ve confirmed that\, as last time\, you can play in your own shoes\, but please make sure they’re trainers or otherwise flat-soled. Shoes are now also available on site.
URL:https://www.copsecroydon.co.uk/event/the-kentones-barbershop-choir/
LOCATION:South Croydon United Church Hall\, Aberdeen Road\, South Croydon\, CR0 1EQ\, United Kingdom
CATEGORIES:Tuesday Club Nights
ATTACH;FMTTYPE=image/jpeg:https://www.copsecroydon.co.uk/wp-content/uploads/2024/01/Click-for-details-e1705192467442.jpg
END:VEVENT
BEGIN:VEVENT
DTSTART;TZID=Europe/London:20250225T201500
DTEND;TZID=Europe/London:20250225T220000
DTSTAMP:20260420T001216
CREATED:20241220T013641Z
LAST-MODIFIED:20250222T132204Z
UID:6099-1740514500-1740520800@www.copsecroydon.co.uk
SUMMARY:Safer Neighbourhood Team
DESCRIPTION:Safe Neighbourhood?\n \nTonight we have the visiting Police Community Support Officer for South Croydon’s “Safer Neighbourhoods Team” for the area  in which our hall is located.  This P.C.S.O. has knowledge and experience to share with us about the district in which we socialise\, shop and travel through. \nA police officer will be accompanying and\, through the presentation by our two guests\, we should gain useful advice about issues that might be of concern to some COPSErs.  There will be opportunity to ask questions and receive answers. \nIn order to benefit from this session\, we need to start promptly at 8.30pm because\, owing to the shift times of our guests\, they must finish about 9.15pm to return to their office and write up their day’s reports. \nWe hope as many of you as possible can arrive for teas / coffees at 8.15pm and have bottoms on seats for the 8.30pm start.  Thank you! \n  \nRegards\, \n  \nIreen Best (07968 035522) \n  \n  \n 
URL:https://www.copsecroydon.co.uk/event/safer-neighbourhood-team/
LOCATION:South Croydon United Church Hall\, Aberdeen Road\, South Croydon\, CR0 1EQ\, United Kingdom
CATEGORIES:Tuesday Club Nights
ATTACH;FMTTYPE=image/jpeg:https://www.copsecroydon.co.uk/wp-content/uploads/2024/01/Click-for-details-e1705192467442.jpg
END:VEVENT
END:VCALENDAR