BEGIN:VCALENDAR
VERSION:2.0
PRODID:-//Croydon Outdoor Pursuits &amp; Social Events Club - ECPv6.15.20//NONSGML v1.0//EN
CALSCALE:GREGORIAN
METHOD:PUBLISH
X-ORIGINAL-URL:https://www.copsecroydon.co.uk
X-WR-CALDESC:Events for Croydon Outdoor Pursuits &amp; Social Events Club
REFRESH-INTERVAL;VALUE=DURATION:PT1H
X-Robots-Tag:noindex
X-PUBLISHED-TTL:PT1H
BEGIN:VTIMEZONE
TZID:Europe/London
BEGIN:DAYLIGHT
TZOFFSETFROM:+0000
TZOFFSETTO:+0100
TZNAME:BST
DTSTART:20210328T010000
END:DAYLIGHT
BEGIN:STANDARD
TZOFFSETFROM:+0100
TZOFFSETTO:+0000
TZNAME:GMT
DTSTART:20211031T010000
END:STANDARD
BEGIN:DAYLIGHT
TZOFFSETFROM:+0000
TZOFFSETTO:+0100
TZNAME:BST
DTSTART:20220327T010000
END:DAYLIGHT
BEGIN:STANDARD
TZOFFSETFROM:+0100
TZOFFSETTO:+0000
TZNAME:GMT
DTSTART:20221030T010000
END:STANDARD
BEGIN:DAYLIGHT
TZOFFSETFROM:+0000
TZOFFSETTO:+0100
TZNAME:BST
DTSTART:20230326T010000
END:DAYLIGHT
BEGIN:STANDARD
TZOFFSETFROM:+0100
TZOFFSETTO:+0000
TZNAME:GMT
DTSTART:20231029T010000
END:STANDARD
END:VTIMEZONE
BEGIN:VEVENT
DTSTART;TZID=Europe/London:20220731T100000
DTEND;TZID=Europe/London:20220731T180000
DTSTAMP:20260425T040059
CREATED:20220624T070555Z
LAST-MODIFIED:20220729T120300Z
UID:3814-1659261600-1659290400@www.copsecroydon.co.uk
SUMMARY:Walk and Picnic at Harrison Rocks
DESCRIPTION:A bright eyed Viewpoint reader has pointed out that the listing in the centre pages of Viewpoint refers to this event as a Climbing activity.\nThis is not a climbing event\, it’s a walk ! There might be some small hills to climb\, but no rock climbing is involved. \nNo special equipment is needed\, apart from the COPSE traditional and optional items of: bobble hat\, hiking boots\, gaiters\, compass\, OS Map\, sandwich\, drink\, rucksack\, anorak\, gloves\, and it’s hard to imagine needing more than sunhat\, shorts and sandals in this heat. \nAssemble at East Croydon by 10 to catch the 10:09 East Grinstead train\, change at Oxted for the Uckfield train. Get a return Ticket to Eridge. \nFirstly\, we will take the train down to Ashurst\, due in at 10:59. From Ashurst station\, we will walk South East\, via Groombridge. Groombridge is a sweet small town/larger village\, with the added bonus of a heritage railway. \nOur “picnic” is towards the end of the walk at Harrisons Rocks\, which are the closest climbing rocks to London\, and very popular. We are not planning any climbing\, and beware that there are vertical drops from the top of the rocks. The idea is to observe the spectacle of the rocks and the climbers\, from the ground. \nFrom the rocks\, it is not far to Eridge station for the train home. \nPath route shown in orange dots on the map. If we want a longer walk there is an option for an extra loop from the Rocks to Eridge\, marked in blue\, to explore more on the way. There are hourly trains at 51 minutes past\, and a convenient pub by the station to wait for the next train\, or the one after. The Huntsman\, open until 6pm.
URL:https://www.copsecroydon.co.uk/event/harrison-rocks/
CATEGORIES:Adventure,Social,Walking
END:VEVENT
END:VCALENDAR