BEGIN:VCALENDAR
VERSION:2.0
PRODID:-//Croydon Outdoor Pursuits &amp; Social Events Club - ECPv6.15.20//NONSGML v1.0//EN
CALSCALE:GREGORIAN
METHOD:PUBLISH
X-WR-CALNAME:Croydon Outdoor Pursuits &amp; Social Events Club
X-ORIGINAL-URL:https://www.copsecroydon.co.uk
X-WR-CALDESC:Events for Croydon Outdoor Pursuits &amp; Social Events Club
REFRESH-INTERVAL;VALUE=DURATION:PT1H
X-Robots-Tag:noindex
X-PUBLISHED-TTL:PT1H
BEGIN:VTIMEZONE
TZID:Europe/London
BEGIN:DAYLIGHT
TZOFFSETFROM:+0000
TZOFFSETTO:+0100
TZNAME:BST
DTSTART:20180325T010000
END:DAYLIGHT
BEGIN:STANDARD
TZOFFSETFROM:+0100
TZOFFSETTO:+0000
TZNAME:GMT
DTSTART:20181028T010000
END:STANDARD
BEGIN:DAYLIGHT
TZOFFSETFROM:+0000
TZOFFSETTO:+0100
TZNAME:BST
DTSTART:20190331T010000
END:DAYLIGHT
BEGIN:STANDARD
TZOFFSETFROM:+0100
TZOFFSETTO:+0000
TZNAME:GMT
DTSTART:20191027T010000
END:STANDARD
BEGIN:DAYLIGHT
TZOFFSETFROM:+0000
TZOFFSETTO:+0100
TZNAME:BST
DTSTART:20200329T010000
END:DAYLIGHT
BEGIN:STANDARD
TZOFFSETFROM:+0100
TZOFFSETTO:+0000
TZNAME:GMT
DTSTART:20201025T010000
END:STANDARD
END:VTIMEZONE
BEGIN:VEVENT
DTSTART;TZID=Europe/London:20190519T100000
DTEND;TZID=Europe/London:20190519T170000
DTSTAMP:20260426T034144
CREATED:20190313T135804Z
LAST-MODIFIED:20190517T103639Z
UID:2196-1558260000-1558285200@www.copsecroydon.co.uk
SUMMARY:Visit to Chartwell\, home of Sir Winston Churchill
DESCRIPTION:If you are interested in going to Chartwell National Trust Property in Westerham\, home of Winston Churchill\, please meet Linda at the entrance at 11.30 a.m. \nStandard Entry price £15.50 for house & gardens. \n£9.00 for the gardens and studio only. \nCar park £4.00 for the day – non-members and free to NT members. \nPlease do look at the web-site because the house visits are timed entry and you can book in advance online and the 15.15 and 15.45 entry times can be booked in advance. \nAll other time slots are allocated on a first come first served basis time. \nThere is a cafe and plenty of grounds for picnicing if you bring a packed lunch. \n 
URL:https://www.copsecroydon.co.uk/event/visit-to-chartwell-home-of-sir-winston-churchill/
CATEGORIES:Cultural
END:VEVENT
BEGIN:VEVENT
DTSTART;TZID=Europe/London:20190521T200000
DTEND;TZID=Europe/London:20190521T220000
DTSTAMP:20260426T034144
CREATED:20190329T203652Z
LAST-MODIFIED:20190429T234625Z
UID:2260-1558468800-1558476000@www.copsecroydon.co.uk
SUMMARY:Evening Walk - Croydon Architecture
DESCRIPTION:Walking tour of Croydon Architecture. Meet at COPSE hall from 7pm for the start of the walk at 7:30pm\nWalk could take between 90minutes at two hours\, terminating at Matthews Yard for a drink.\nEarlier in May this route was previewed on the bike tour\, now on the walk we will take more time\, get closer and go into greater detail.\nSee the “Ten Tallest Buildings in Croydon”; Many new construction projects\, including the Nestle Tower Redevelopment; “World Record Breaking Modular Construction” at 101 George Street; Tallest yet Saffron Tower. Visiting some of the “Seven Hills of Croydon”\, the car parks dotted around town that give great views from the open top floors.\nOnline maps show more details of the planned routes and landmarks:\nTallest Buildings\nWalking Route
URL:https://www.copsecroydon.co.uk/event/evening-walk-croydon-architecture/
CATEGORIES:Cultural,Tuesday Club Nights
END:VEVENT
END:VCALENDAR