BEGIN:VCALENDAR
VERSION:2.0
PRODID:-//Croydon Outdoor Pursuits &amp; Social Events Club - ECPv6.15.20//NONSGML v1.0//EN
CALSCALE:GREGORIAN
METHOD:PUBLISH
X-WR-CALNAME:Croydon Outdoor Pursuits &amp; Social Events Club
X-ORIGINAL-URL:https://www.copsecroydon.co.uk
X-WR-CALDESC:Events for Croydon Outdoor Pursuits &amp; Social Events Club
REFRESH-INTERVAL;VALUE=DURATION:PT1H
X-Robots-Tag:noindex
X-PUBLISHED-TTL:PT1H
BEGIN:VTIMEZONE
TZID:Europe/London
BEGIN:DAYLIGHT
TZOFFSETFROM:+0000
TZOFFSETTO:+0100
TZNAME:BST
DTSTART:20190331T010000
END:DAYLIGHT
BEGIN:STANDARD
TZOFFSETFROM:+0100
TZOFFSETTO:+0000
TZNAME:GMT
DTSTART:20191027T010000
END:STANDARD
BEGIN:DAYLIGHT
TZOFFSETFROM:+0000
TZOFFSETTO:+0100
TZNAME:BST
DTSTART:20200329T010000
END:DAYLIGHT
BEGIN:STANDARD
TZOFFSETFROM:+0100
TZOFFSETTO:+0000
TZNAME:GMT
DTSTART:20201025T010000
END:STANDARD
BEGIN:DAYLIGHT
TZOFFSETFROM:+0000
TZOFFSETTO:+0100
TZNAME:BST
DTSTART:20210328T010000
END:DAYLIGHT
BEGIN:STANDARD
TZOFFSETFROM:+0100
TZOFFSETTO:+0000
TZNAME:GMT
DTSTART:20211031T010000
END:STANDARD
END:VTIMEZONE
BEGIN:VEVENT
DTSTART;TZID=Europe/London:20200202T093000
DTEND;TZID=Europe/London:20200202T170000
DTSTAMP:20260425T153147
CREATED:20191227T175553Z
LAST-MODIFIED:20200123T085013Z
UID:2686-1580635800-1580662800@www.copsecroydon.co.uk
SUMMARY:Hidden London – Lib’s London Walk
DESCRIPTION:Assemble from 11:15 at East Croydon station ticket hall for the 11:34 To London Bridge. \n  \nExplore\, hike\, discover\, marvel and wonder at the hidden secrets of Croydon’s companion town\, Londinium\, far away “over the water” * \n  \n“Hidden London” theme means this is all a little hush hush. We will pass by and visit a series of hidden features. Some hidden from sight\, some hidden in plain sight. \n  \nAfter finding some hidden places in the immediate vicinity of London Bridge\, we will take a mystery trip to a hidden corner of London\, where we will hike on a hidden path for around five miles. \n  \nOur outbound train arrives at London bridge 11:48\, so you can join us there instead. If you’re late or otherwise miss us\, we’ll be in the general area for about one hour\, so you can track is down by phone or other magical means. \n  \nExpect all the walking to be completed in daylight\, before finding a hidden station to take us back on a hidden route to good old Croydon\, by which time it might just have gone dark. All the transport links are within the TFL zones 1-6.
URL:https://www.copsecroydon.co.uk/event/hidden-london-libs-london-walk/
CATEGORIES:Cultural,Walking
END:VEVENT
END:VCALENDAR