BEGIN:VCALENDAR
VERSION:2.0
PRODID:-//Croydon Outdoor Pursuits &amp; Social Events Club - ECPv6.15.20//NONSGML v1.0//EN
CALSCALE:GREGORIAN
METHOD:PUBLISH
X-ORIGINAL-URL:https://www.copsecroydon.co.uk
X-WR-CALDESC:Events for Croydon Outdoor Pursuits &amp; Social Events Club
REFRESH-INTERVAL;VALUE=DURATION:PT1H
X-Robots-Tag:noindex
X-PUBLISHED-TTL:PT1H
BEGIN:VTIMEZONE
TZID:Europe/London
BEGIN:DAYLIGHT
TZOFFSETFROM:+0000
TZOFFSETTO:+0100
TZNAME:BST
DTSTART:20230326T010000
END:DAYLIGHT
BEGIN:STANDARD
TZOFFSETFROM:+0100
TZOFFSETTO:+0000
TZNAME:GMT
DTSTART:20231029T010000
END:STANDARD
BEGIN:DAYLIGHT
TZOFFSETFROM:+0000
TZOFFSETTO:+0100
TZNAME:BST
DTSTART:20240331T010000
END:DAYLIGHT
BEGIN:STANDARD
TZOFFSETFROM:+0100
TZOFFSETTO:+0000
TZNAME:GMT
DTSTART:20241027T010000
END:STANDARD
BEGIN:DAYLIGHT
TZOFFSETFROM:+0000
TZOFFSETTO:+0100
TZNAME:BST
DTSTART:20250330T010000
END:DAYLIGHT
BEGIN:STANDARD
TZOFFSETFROM:+0100
TZOFFSETTO:+0000
TZNAME:GMT
DTSTART:20251026T010000
END:STANDARD
END:VTIMEZONE
BEGIN:VEVENT
DTSTART;TZID=Europe/London:20240921T100000
DTEND;TZID=Europe/London:20240921T170000
DTSTAMP:20260420T093559
CREATED:20240703T094013Z
LAST-MODIFIED:20240921T081905Z
UID:5584-1726912800-1726938000@www.copsecroydon.co.uk
SUMMARY:Saturday Walk with Pepys – Stroll 3 - a Night Out! - POSTPONED
DESCRIPTION:Apologies all\, but due to sickness I’ve had to postpone this at short notice. I’ll reschedule.\n\nKen \n\nWe were all so impressed with the Pepys Walk last December that we did a Second Instalment in February. If it’s worth doing\, it’s worth flogging to death\, so here we are for a third go.\n  \n\n\nWhere?\nAgain we’ll be following the 17th Century footsteps of Samuel Pepys\, this time seeking out the many places he went to for a good night out – of which he was an enthusiast. Again I’ll be your amateur guide\, book in hand\, pointing out the connections to Pepys on the way. No doubt other COPSErs will continue to persist in offering their own observations! \nThis will be an easy 3-4 hour walk along pavements (boots not required) for about 4-5 miles\, ending with an optional beer or two at a historic tavern that also serves food. As it’s in central London\, there’s plenty of access to public transport if you want to leave the walk early. \nWho was Pepys?\n \nA man who lived through the upheavals of the Civil War\, the execution of Charles I\, the reign of Cromwell and the subsequent restoration of the Monarchy with Charles II. Most significantly for us\, from 1660 to 1669 he wrote a daily diary describing events high and low. He was a man on the rise with connections to politics and royalty\, but determined to enjoy life with visits to taverns and theatres\, domestic life with his French wife\, and furtive dalliances with a variety of disreputable ladies. \nGetting there\nI’ll be catching the 10.15 East Croydon Platform 4 to Victoria. \nJoining opportunities: \n\n\n\n\n\nEast Croydon station from 10.00\n\n\nhttps://w3w.co/dock.jars.folds\n\n\n\n\nAt Victoria station from our scheduled arrival time about 10.32\n\n\nhttps://w3w.co/gladiators.zooms.sweep\n\n\n\n\nAt the entrance to St James’ Park\, junction of The Mall with Marlborough Road\, where we start the walk\, from our expected arrival time about 10.45-11.00\n\n\nhttps://w3w.co/pool.shrimp.linked\n\n\n\n  \nCall me (number below) if any difficulty joining up. \nFinishing\nWe finish in The Borough\, handy for London Bridge station and a couple of interesting pubs. I’ll be shooting off to see the mighty Palace crush Man U (kickoff 17.00). \nLinks\nPepys’s diary for this day 363 years ago: https://www.pepysdiary.com/ \nGeneral info on Pepys: https://en.wikipedia.org/wiki/Samuel_Pepys \nContact\nKen on 07921 258876 \n\nWhat3Words\nExplanation is here. You can use the links to find any 3-metre square on earth. For best results\, download the App.
URL:https://www.copsecroydon.co.uk/event/pepys-walk/
CATEGORIES:Cultural,Outdoor Events,Walking
ATTACH;FMTTYPE=image/jpeg:https://www.copsecroydon.co.uk/wp-content/uploads/2024/01/Click-for-details-e1705192467442.jpg
ORGANIZER;CN="Ken":MAILTO:ken@brogan.co.uk
END:VEVENT
BEGIN:VEVENT
DTSTART;VALUE=DATE:20240926
DTEND;VALUE=DATE:20241001
DTSTAMP:20260420T093559
CREATED:20240703T164620Z
LAST-MODIFIED:20240822T172620Z
UID:5622-1727308800-1727740799@www.copsecroydon.co.uk
SUMMARY:Trip to the Netherlands - postponed until Spring 2025
DESCRIPTION:We are planning on being based in Amsterdam with a visit to Arnhem. \nUnfortunately this trip will not happen when originally planned. Instead we will organise one for Spring 2025 – tulip time? \n\n\n\n🎼When it’s Spring again we’ll bring again . . . 🎵\n\n\n\n\n  \nWatch for announcements of the new dates. \n 
URL:https://www.copsecroydon.co.uk/event/trip-to-holland/
CATEGORIES:Cultural,Further Afield,Outdoor Events
ATTACH;FMTTYPE=image/jpeg:https://www.copsecroydon.co.uk/wp-content/uploads/2024/01/Click-for-details-e1705192467442.jpg
END:VEVENT
END:VCALENDAR