BEGIN:VCALENDAR
VERSION:2.0
PRODID:-//Croydon Outdoor Pursuits &amp; Social Events Club - ECPv6.15.20//NONSGML v1.0//EN
CALSCALE:GREGORIAN
METHOD:PUBLISH
X-ORIGINAL-URL:https://www.copsecroydon.co.uk
X-WR-CALDESC:Events for Croydon Outdoor Pursuits &amp; Social Events Club
REFRESH-INTERVAL;VALUE=DURATION:PT1H
X-Robots-Tag:noindex
X-PUBLISHED-TTL:PT1H
BEGIN:VTIMEZONE
TZID:Europe/London
BEGIN:DAYLIGHT
TZOFFSETFROM:+0000
TZOFFSETTO:+0100
TZNAME:BST
DTSTART:20150329T010000
END:DAYLIGHT
BEGIN:STANDARD
TZOFFSETFROM:+0100
TZOFFSETTO:+0000
TZNAME:GMT
DTSTART:20151025T010000
END:STANDARD
BEGIN:DAYLIGHT
TZOFFSETFROM:+0000
TZOFFSETTO:+0100
TZNAME:BST
DTSTART:20160327T010000
END:DAYLIGHT
BEGIN:STANDARD
TZOFFSETFROM:+0100
TZOFFSETTO:+0000
TZNAME:GMT
DTSTART:20161030T010000
END:STANDARD
BEGIN:DAYLIGHT
TZOFFSETFROM:+0000
TZOFFSETTO:+0100
TZNAME:BST
DTSTART:20170326T010000
END:DAYLIGHT
BEGIN:STANDARD
TZOFFSETFROM:+0100
TZOFFSETTO:+0000
TZNAME:GMT
DTSTART:20171029T010000
END:STANDARD
BEGIN:DAYLIGHT
TZOFFSETFROM:+0000
TZOFFSETTO:+0100
TZNAME:BST
DTSTART:20180325T010000
END:DAYLIGHT
BEGIN:STANDARD
TZOFFSETFROM:+0100
TZOFFSETTO:+0000
TZNAME:GMT
DTSTART:20181028T010000
END:STANDARD
END:VTIMEZONE
BEGIN:VEVENT
DTSTART;TZID=Europe/London:20161231T193000
DTEND;TZID=Europe/London:20170101T010000
DTSTAMP:20260424T170134
CREATED:20161126T162434Z
LAST-MODIFIED:20170728T203054Z
UID:288-1483212600-1483232400@www.copsecroydon.co.uk
SUMMARY:New Year's Eve Barn Dance
DESCRIPTION:The band for the evening will be The Oxford Nags featuring Nina Hansell (of PolkaWorks and the Bismarcks) on fiddle\, Andy Turner (of Geckoes and Magpie Lane) on concertina\, Sandy Shallis (of Tinker’s Ditch) on melodoens and Gareth Kiddier (of PolkaWorks and The English Contra Band) on keyboards. Calling the dancers will be exciting new caller Gill Emerson.
URL:https://www.copsecroydon.co.uk/event/new-years-eve-barn-dance/
LOCATION:Godalming Borough Hall\, The Burys\, Godalming\, GU7 1HR\, United Kingdom
CATEGORIES:Outdoor Events,Social
END:VEVENT
END:VCALENDAR