BEGIN:VCALENDAR
VERSION:2.0
PRODID:-//Croydon Outdoor Pursuits &amp; Social Events Club - ECPv6.15.20//NONSGML v1.0//EN
CALSCALE:GREGORIAN
METHOD:PUBLISH
X-ORIGINAL-URL:https://www.copsecroydon.co.uk
X-WR-CALDESC:Events for Croydon Outdoor Pursuits &amp; Social Events Club
REFRESH-INTERVAL;VALUE=DURATION:PT1H
X-Robots-Tag:noindex
X-PUBLISHED-TTL:PT1H
BEGIN:VTIMEZONE
TZID:Europe/London
BEGIN:DAYLIGHT
TZOFFSETFROM:+0000
TZOFFSETTO:+0100
TZNAME:BST
DTSTART:20170326T010000
END:DAYLIGHT
BEGIN:STANDARD
TZOFFSETFROM:+0100
TZOFFSETTO:+0000
TZNAME:GMT
DTSTART:20171029T010000
END:STANDARD
BEGIN:DAYLIGHT
TZOFFSETFROM:+0000
TZOFFSETTO:+0100
TZNAME:BST
DTSTART:20180325T010000
END:DAYLIGHT
BEGIN:STANDARD
TZOFFSETFROM:+0100
TZOFFSETTO:+0000
TZNAME:GMT
DTSTART:20181028T010000
END:STANDARD
BEGIN:DAYLIGHT
TZOFFSETFROM:+0000
TZOFFSETTO:+0100
TZNAME:BST
DTSTART:20190331T010000
END:DAYLIGHT
BEGIN:STANDARD
TZOFFSETFROM:+0100
TZOFFSETTO:+0000
TZNAME:GMT
DTSTART:20191027T010000
END:STANDARD
END:VTIMEZONE
BEGIN:VEVENT
DTSTART;TZID=Europe/London:20180112T200000
DTEND;TZID=Europe/London:20180112T230000
DTSTAMP:20260423T210559
CREATED:20180106T202515Z
LAST-MODIFIED:20180114T125334Z
UID:1058-1515787200-1515798000@www.copsecroydon.co.uk
SUMMARY:South Norwood Ceilidh
DESCRIPTION:Everyone in the Jigalots is not only an experienced musician but also an experienced dancer. When we play for a dance\, we want our music to make you want to dance whether it’s gliding around the room in a dreamy waltz to bouncing around to an energetic hornpipe. \nTickets £10
URL:https://www.copsecroydon.co.uk/event/south-norwood-ceilidh-at-the-halls-jigalots-fee-lock/
LOCATION:Stanley Halls\, 12 South Norwood Hill\, London\, SE25 6AB\, United Kingdom
CATEGORIES:Social
END:VEVENT
BEGIN:VEVENT
DTSTART;TZID=Europe/London:20180120T193000
DTEND;TZID=Europe/London:20180120T230000
DTSTAMP:20260423T210559
CREATED:20180106T203809Z
LAST-MODIFIED:20180106T203809Z
UID:1066-1516476600-1516489200@www.copsecroydon.co.uk
SUMMARY:Ceilidh in Godalming
DESCRIPTION:Further details from Ireen.
URL:https://www.copsecroydon.co.uk/event/ceilidh-in-godalming/
CATEGORIES:Social
END:VEVENT
BEGIN:VEVENT
DTSTART;TZID=Europe/London:20180121T184500
DTEND;TZID=Europe/London:20180121T210900
DTSTAMP:20260423T210559
CREATED:20180106T204708Z
LAST-MODIFIED:20180120T172559Z
UID:1068-1516560300-1516568940@www.copsecroydon.co.uk
SUMMARY:Watch Indoor Ice Hockey Game
DESCRIPTION:Streatham IHC v London Raiders. \nMeet outside Crystal Palace station at Midday for an easy four mile walk following the Capital Ring via Westow park\, Upper Norwood recreation ground\, Biggin wood\, Norwood Grove to Streatham Common. Here we will wander around the wonderful “Rookery” + the nearby “Rookery cafe” for coffee\, tea\, soup\, snacks etc + loos). \nThen a short walk to “The Railway” pub (2 Greyhound Lane) which is next to Streatham Common Station for drinks/meal/coffees to 5.45pm at the latest. See link below of the pub menu. \n\nFood \n\nAt 5.45pm/6pm we will walk to Streatham leisure centre to watch the Ice hockey game between Streatham Redhawks v London Raiders. \nBest buy your ticket online http://tickets.streatham-hockey.co.uk/o/1 or at the venue. – Tickets £10/£6 concessions \nGame starts at 6.45pm \n8.45pm/9pm match should finish. \nMany buses get back into Croydon 50 bus/60 bus/109 bus/250 bus + trains from either Streatham\nor Streatham common stations.
URL:https://www.copsecroydon.co.uk/event/indoor-ice-hockey-game/
LOCATION:Streatham Ice & Leisure Centre\, Streatham High Road\, London\, SW16 6HX\, United Kingdom
CATEGORIES:Social,Walking
END:VEVENT
BEGIN:VEVENT
DTSTART;TZID=Europe/London:20180128T193000
DTEND;TZID=Europe/London:20180128T230000
DTSTAMP:20260423T210559
CREATED:20180107T183445Z
LAST-MODIFIED:20180114T124826Z
UID:1140-1517167800-1517180400@www.copsecroydon.co.uk
SUMMARY:Holocaust Memorial Concert
DESCRIPTION:A concert at Ruskin House.
URL:https://www.copsecroydon.co.uk/event/holocaust-memorial-concert-ruskin-house-croydon/
LOCATION:Ruskin House\, 23 Coombe Road\, Croydon\, CR0 1BD\, United Kingdom
CATEGORIES:Social
END:VEVENT
END:VCALENDAR