BEGIN:VCALENDAR
VERSION:2.0
PRODID:-//Croydon Outdoor Pursuits &amp; Social Events Club - ECPv6.15.20//NONSGML v1.0//EN
CALSCALE:GREGORIAN
METHOD:PUBLISH
X-WR-CALNAME:Croydon Outdoor Pursuits &amp; Social Events Club
X-ORIGINAL-URL:https://www.copsecroydon.co.uk
X-WR-CALDESC:Events for Croydon Outdoor Pursuits &amp; Social Events Club
REFRESH-INTERVAL;VALUE=DURATION:PT1H
X-Robots-Tag:noindex
X-PUBLISHED-TTL:PT1H
BEGIN:VTIMEZONE
TZID:Europe/London
BEGIN:DAYLIGHT
TZOFFSETFROM:+0000
TZOFFSETTO:+0100
TZNAME:BST
DTSTART:20170326T010000
END:DAYLIGHT
BEGIN:STANDARD
TZOFFSETFROM:+0100
TZOFFSETTO:+0000
TZNAME:GMT
DTSTART:20171029T010000
END:STANDARD
BEGIN:DAYLIGHT
TZOFFSETFROM:+0000
TZOFFSETTO:+0100
TZNAME:BST
DTSTART:20180325T010000
END:DAYLIGHT
BEGIN:STANDARD
TZOFFSETFROM:+0100
TZOFFSETTO:+0000
TZNAME:GMT
DTSTART:20181028T010000
END:STANDARD
BEGIN:DAYLIGHT
TZOFFSETFROM:+0000
TZOFFSETTO:+0100
TZNAME:BST
DTSTART:20190331T010000
END:DAYLIGHT
BEGIN:STANDARD
TZOFFSETFROM:+0100
TZOFFSETTO:+0000
TZNAME:GMT
DTSTART:20191027T010000
END:STANDARD
END:VTIMEZONE
BEGIN:VEVENT
DTSTART;VALUE=DATE:20180407
DTEND;VALUE=DATE:20180408
DTSTAMP:20260423T162110
CREATED:20180318T222937Z
LAST-MODIFIED:20180405T204107Z
UID:1400-1523059200-1523145599@www.copsecroydon.co.uk
SUMMARY:Gujarati Yatra Exhibition Visit + Meal Out
DESCRIPTION:Visit the Gujarati Yatra exhibition at Croydon Clock Tower followed by a meal out.  The itinerary is as follows: \n1. Meet at Croydon library’s Clocktower Café\, about 1.00pm-ish on Saturday\, 7th April. Tables are being reserved for us. (Light lunches or just coffee/cake etc. are options.) \n2. Progress to the Gujarati Yatra exhibition in the museum\, by about 2.15pm\, where we shall benefit from extra info provided by Lata Desai\,one of the exhibition’s curators (who will be joining us first in the café). \n3. Leave the building by 5.00pm for a drink at the pub: Wetherspoon’s “The Milan Bar”\, 14 High Street. \n4. Gather at Saravana Bhavan Indian vegetarian restaurant\, 18 George Street\, where we have a booking for 6.00pm. \nPlease let Ireen know a.s.a.p.\, if you wish to be added into the afternoon or evening (07968 035522). It should be possible to plug into any or all of these arrangements. \n 
URL:https://www.copsecroydon.co.uk/event/gujarati-yatra-exhibition-at-croydon-clocktower-meal/
LOCATION:Croydon Clocktower\, 9 Katharine St\, Croydon\, CR9 1\, United Kingdom
CATEGORIES:Cultural,Social
END:VEVENT
BEGIN:VEVENT
DTSTART;TZID=Europe/London:20180413T200000
DTEND;TZID=Europe/London:20180417T230000
DTSTAMP:20260423T162110
CREATED:20180409T182702Z
LAST-MODIFIED:20180409T182702Z
UID:1568-1523649600-1524006000@www.copsecroydon.co.uk
SUMMARY:Stanley Halls Folk Dance
DESCRIPTION:Ignore the threat of the date and make it fun not scary! Consider joining some of our Club Members at the next Stanley Halls folk dance\, which will be slightly different\, in that it will be in a “French Bal” style. (There is a pre-dance tuition session but steps can be simple enough to master during an evening – with the option of adding in extra twirls and claps to embellish\, as people feel inclined! )\nDances might include Mazurkas\, Bourrées\, Schottisches\, French waltzes and polkas\, and possibly Breton circle dances.\nFor queries or to reserve tickets for your space on the dance floor\, contact Ireen: umpfamily@hotmail.com or 07968 035522
URL:https://www.copsecroydon.co.uk/event/stanley-halls-folk-dance/
LOCATION:Stanley Halls\, 12 South Norwood Hill\, London\, SE25 6AB\, United Kingdom
CATEGORIES:Social
END:VEVENT
BEGIN:VEVENT
DTSTART;TZID=Europe/London:20180414T193000
DTEND;TZID=Europe/London:20180414T223000
DTSTAMP:20260423T162110
CREATED:20180408T232414Z
LAST-MODIFIED:20180408T232414Z
UID:1552-1523734200-1523745000@www.copsecroydon.co.uk
SUMMARY:Carshalton Village Ceilidh
DESCRIPTION:A barn dance with David Jex and the Wandle Ceilidh Band \n7:30 pm – 10:30pm (Doors open 7:15pm)\nTickets £8 on the door \nHot drinks and cakes provided. \nNo alcohol permitted in the hall. \nClick on the link below for the poster: \nCarshalton Village Ceilidhs poster 2018 04 \n 
URL:https://www.copsecroydon.co.uk/event/carshalton-village-ceilidh/
LOCATION:Carshalton Methodist Church\, Ruskin Road\, Carshalton\, SM5 3DE
CATEGORIES:Social
END:VEVENT
BEGIN:VEVENT
DTSTART;TZID=Europe/London:20180421T194500
DTEND;TZID=Europe/London:20180421T230000
DTSTAMP:20260423T162110
CREATED:20180409T183725Z
LAST-MODIFIED:20180409T183725Z
UID:1571-1524339900-1524351600@www.copsecroydon.co.uk
SUMMARY:"G.B.H." Ceilidh!
DESCRIPTION:Traditional Barn Dance at Godalming Borough Halls. The band is “Second Front” with caller Bridget Flett. \nTo reserve tickets for your space on the dance floor\, contact Ireen: umpfamily@hotmail.com or 07968 035522
URL:https://www.copsecroydon.co.uk/event/g-b-h-ceilidh/
LOCATION:Godalming Borough Hall\, Bridge Street\, Godalming\, GU7 1HR\, United Kingdom
CATEGORIES:Social
END:VEVENT
BEGIN:VEVENT
DTSTART;TZID=Europe/London:20180423T193000
DTEND;TZID=Europe/London:20180423T230000
DTSTAMP:20260423T162110
CREATED:20180107T183822Z
LAST-MODIFIED:20180408T231218Z
UID:1144-1524511800-1524524400@www.copsecroydon.co.uk
SUMMARY:Shakespeare's Night Supper at Ruskin House
DESCRIPTION:Croydon Folk Song Club meets on Mondays in the Cedar Hall at the back of Ruskin House. On 23rd April (Monday) they are having a special evening\, partly to celebrate St George’s day\, but also Shakespeare’s birthday\, which happens to be the same day! There will be a meal of roast beef and Yorkshire pudding\, etc\, a quiz about Shakespeare and some folk dancing.  All for £10! \nFor bookings phone Jenny or Brian\nOn 02086605919 or 07703210795 \nClick on the link below for the poster: \nCFC Shakespeare 2018
URL:https://www.copsecroydon.co.uk/event/st-georges-day_celebration/
LOCATION:Ruskin House\, 23 Coombe Road\, Croydon\, CR0 1BD\, United Kingdom
CATEGORIES:Social
END:VEVENT
END:VCALENDAR