BEGIN:VCALENDAR
VERSION:2.0
PRODID:-//Croydon Outdoor Pursuits &amp; Social Events Club - ECPv6.15.20//NONSGML v1.0//EN
CALSCALE:GREGORIAN
METHOD:PUBLISH
X-WR-CALNAME:Croydon Outdoor Pursuits &amp; Social Events Club
X-ORIGINAL-URL:https://www.copsecroydon.co.uk
X-WR-CALDESC:Events for Croydon Outdoor Pursuits &amp; Social Events Club
REFRESH-INTERVAL;VALUE=DURATION:PT1H
X-Robots-Tag:noindex
X-PUBLISHED-TTL:PT1H
BEGIN:VTIMEZONE
TZID:Europe/London
BEGIN:DAYLIGHT
TZOFFSETFROM:+0000
TZOFFSETTO:+0100
TZNAME:BST
DTSTART:20170326T010000
END:DAYLIGHT
BEGIN:STANDARD
TZOFFSETFROM:+0100
TZOFFSETTO:+0000
TZNAME:GMT
DTSTART:20171029T010000
END:STANDARD
BEGIN:DAYLIGHT
TZOFFSETFROM:+0000
TZOFFSETTO:+0100
TZNAME:BST
DTSTART:20180325T010000
END:DAYLIGHT
BEGIN:STANDARD
TZOFFSETFROM:+0100
TZOFFSETTO:+0000
TZNAME:GMT
DTSTART:20181028T010000
END:STANDARD
BEGIN:DAYLIGHT
TZOFFSETFROM:+0000
TZOFFSETTO:+0100
TZNAME:BST
DTSTART:20190331T010000
END:DAYLIGHT
BEGIN:STANDARD
TZOFFSETFROM:+0100
TZOFFSETTO:+0000
TZNAME:GMT
DTSTART:20191027T010000
END:STANDARD
END:VTIMEZONE
BEGIN:VEVENT
DTSTART;TZID=Europe/London:20180809T193000
DTEND;TZID=Europe/London:20180809T220000
DTSTAMP:20260423T103515
CREATED:20180706T181628Z
LAST-MODIFIED:20180929T100814Z
UID:1688-1533843000-1533852000@www.copsecroydon.co.uk
SUMMARY:BBC Proms
DESCRIPTION:Trip to the BBC Proms at the Royal Albert Hall.  The programme comprises works by Webern\, Mahler and Wagner and is given by the Philharmonia Orchestra.   It starts at 7.30pm.  As usual our tickets are at the back of the upper circle and cost £15.  First come first served.   I have 15 tickets available.
URL:https://www.copsecroydon.co.uk/event/bbc-proms/
LOCATION:Royal Albert Hall\, Kensington Gore\, SW7 2AP\, United Kingdom
CATEGORIES:Cultural,Outdoor Events,Social
END:VEVENT
BEGIN:VEVENT
DTSTART;VALUE=DATE:20180825
DTEND;VALUE=DATE:20180826
DTSTAMP:20260423T103515
CREATED:20180706T181811Z
LAST-MODIFIED:20180929T100719Z
UID:1694-1535155200-1535241599@www.copsecroydon.co.uk
SUMMARY:Arundel Festival
DESCRIPTION:There’s plenty of things to do including walking along the river Arun\, Arundel castle\,  cathedral\,  wetlands\, dragonboat racing along the river\, an outdoor lido\, tea shops\, outdoor cafes + plenty of good pubs.\n\nCome down anytime during the day.  There are no particular meet up times or locations but look out for each other as your wander round.  However\, it you’d like to travel down together\, Keith S plans to catch the 10.03 train from East Croydon.
URL:https://www.copsecroydon.co.uk/event/arundel-festival/
CATEGORIES:Cultural,Day Event,Outdoor Events,Social
END:VEVENT
END:VCALENDAR