BEGIN:VCALENDAR
VERSION:2.0
PRODID:-//Croydon Outdoor Pursuits &amp; Social Events Club - ECPv6.15.20//NONSGML v1.0//EN
CALSCALE:GREGORIAN
METHOD:PUBLISH
X-WR-CALNAME:Croydon Outdoor Pursuits &amp; Social Events Club
X-ORIGINAL-URL:https://www.copsecroydon.co.uk
X-WR-CALDESC:Events for Croydon Outdoor Pursuits &amp; Social Events Club
REFRESH-INTERVAL;VALUE=DURATION:PT1H
X-Robots-Tag:noindex
X-PUBLISHED-TTL:PT1H
BEGIN:VTIMEZONE
TZID:Europe/London
BEGIN:DAYLIGHT
TZOFFSETFROM:+0000
TZOFFSETTO:+0100
TZNAME:BST
DTSTART:20170326T010000
END:DAYLIGHT
BEGIN:STANDARD
TZOFFSETFROM:+0100
TZOFFSETTO:+0000
TZNAME:GMT
DTSTART:20171029T010000
END:STANDARD
BEGIN:DAYLIGHT
TZOFFSETFROM:+0000
TZOFFSETTO:+0100
TZNAME:BST
DTSTART:20180325T010000
END:DAYLIGHT
BEGIN:STANDARD
TZOFFSETFROM:+0100
TZOFFSETTO:+0000
TZNAME:GMT
DTSTART:20181028T010000
END:STANDARD
BEGIN:DAYLIGHT
TZOFFSETFROM:+0000
TZOFFSETTO:+0100
TZNAME:BST
DTSTART:20190331T010000
END:DAYLIGHT
BEGIN:STANDARD
TZOFFSETFROM:+0100
TZOFFSETTO:+0000
TZNAME:GMT
DTSTART:20191027T010000
END:STANDARD
END:VTIMEZONE
BEGIN:VEVENT
DTSTART;TZID=Europe/London:20181103T170000
DTEND;TZID=Europe/London:20181103T210000
DTSTAMP:20260423T053958
CREATED:20180930T180037Z
LAST-MODIFIED:20180930T180037Z
UID:1877-1541264400-1541278800@www.copsecroydon.co.uk
SUMMARY:Lambeth Fireworks in Brockwell Park
DESCRIPTION:There will be  TWO displays\, on ONE ticket! \n6.45pm* – Kids’ Movies Themed Fireworks Display\, choreographed to songs from much loved kid’s movies such as The Greatest Showman\, Moana\, Sing\, Frozen and Trolls. \n8pm* – “The Time Tunnel” Fireworks Display\, set to anthems from the early 90s through to the present day. From Spice Girls to Oasis\, Beyonce’ to Ed Sheeran\, and many more in between\, this display will take you on a nostalgic journey. \nThe event opens at 5pm with the first display scheduled for 6.45pm with the main Time Tunnel display scheduled for 8pm and event closure at 9pm. \nThe event is packed with funfair rides and plenty of great food and drink\, so get down early to enjoy the whole show. \nThis is a limited capacity event so please purchase your tickets early to avoid disappointment. \nhttps://www.eventbrite.co.uk/e/lambeth-fireworks-2018-tickets-48476915760
URL:https://www.copsecroydon.co.uk/event/lambeth-fireworks-in-brockwell-park/
CATEGORIES:Social
ORGANIZER;CN="Olga":MAILTO:olga@copsecroydon.co.uk
END:VEVENT
BEGIN:VEVENT
DTSTART;TZID=Europe/London:20181109T200000
DTEND;TZID=Europe/London:20181109T230000
DTSTAMP:20260423T053958
CREATED:20180930T180406Z
LAST-MODIFIED:20180930T180406Z
UID:1882-1541793600-1541804400@www.copsecroydon.co.uk
SUMMARY:The Stanley Hall Barn Dance
DESCRIPTION:From beginners to seasoned veterans all are welcome to a night of dancing and meeting new friends at the glorious Stanley Halls!! This months’ ceilidh will be an Armistice Day special! \nThis ceilidh will celebrate and commemorates the armistice signed between the Allies and Germany at Compiègne\, France\, for the cessation of hostilities on the Western Front\, which took effect at 11:00 am on the eleventh hour of the eleventh day of the eleventh month. \nWith the authentic wooden sprung floors\, and the Stanley Halls bar open throughout; expect a night of laughs\, great music\, and good times to be had by all!
URL:https://www.copsecroydon.co.uk/event/the-stanley-hall-barn-dance-2/
CATEGORIES:Social
END:VEVENT
BEGIN:VEVENT
DTSTART;TZID=Europe/London:20181123T210000
DTEND;TZID=Europe/London:20181124T020000
DTSTAMP:20260423T053958
CREATED:20180930T181341Z
LAST-MODIFIED:20181116T143936Z
UID:1890-1543006800-1543024800@www.copsecroydon.co.uk
SUMMARY:Late Club Night at The Bad Apple - Park Street\, Croydon
DESCRIPTION:Meet up from 9PM at the Bad Apple. \nFree entry before 10PM – From 10PM it costs £5 \nBA has a strong security policy making it a relaxed and fun place to while away the late hours dancing\, drinking and laughing. The door policy tightens up as the night goes on\, and they ask first time visitors to show photo ID.
URL:https://www.copsecroydon.co.uk/event/late-club-night/
LOCATION:CR0 1YD
CATEGORIES:Social
END:VEVENT
END:VCALENDAR