BEGIN:VCALENDAR
VERSION:2.0
PRODID:-//Croydon Outdoor Pursuits &amp; Social Events Club - ECPv6.15.20//NONSGML v1.0//EN
CALSCALE:GREGORIAN
METHOD:PUBLISH
X-WR-CALNAME:Croydon Outdoor Pursuits &amp; Social Events Club
X-ORIGINAL-URL:https://www.copsecroydon.co.uk
X-WR-CALDESC:Events for Croydon Outdoor Pursuits &amp; Social Events Club
REFRESH-INTERVAL;VALUE=DURATION:PT1H
X-Robots-Tag:noindex
X-PUBLISHED-TTL:PT1H
BEGIN:VTIMEZONE
TZID:Europe/London
BEGIN:DAYLIGHT
TZOFFSETFROM:+0000
TZOFFSETTO:+0100
TZNAME:BST
DTSTART:20180325T010000
END:DAYLIGHT
BEGIN:STANDARD
TZOFFSETFROM:+0100
TZOFFSETTO:+0000
TZNAME:GMT
DTSTART:20181028T010000
END:STANDARD
BEGIN:DAYLIGHT
TZOFFSETFROM:+0000
TZOFFSETTO:+0100
TZNAME:BST
DTSTART:20190331T010000
END:DAYLIGHT
BEGIN:STANDARD
TZOFFSETFROM:+0100
TZOFFSETTO:+0000
TZNAME:GMT
DTSTART:20191027T010000
END:STANDARD
BEGIN:DAYLIGHT
TZOFFSETFROM:+0000
TZOFFSETTO:+0100
TZNAME:BST
DTSTART:20200329T010000
END:DAYLIGHT
BEGIN:STANDARD
TZOFFSETFROM:+0100
TZOFFSETTO:+0000
TZNAME:GMT
DTSTART:20201025T010000
END:STANDARD
END:VTIMEZONE
BEGIN:VEVENT
DTSTART;TZID=Europe/London:20190108T203000
DTEND;TZID=Europe/London:20190108T220000
DTSTAMP:20260423T025431
CREATED:20181218T130141Z
LAST-MODIFIED:20190309T152946Z
UID:2096-1546979400-1546984800@www.copsecroydon.co.uk
SUMMARY:Mystery Auction
DESCRIPTION:Our Club’s annual “Mystery Auction” is in aid of our adopted charity\, “ShelterBox”\, which provides emergency supplies to those in great need\, wherever they may be. \n  \nCOPSE has previously donated two complete green boxes stuffed with appropriate survival equipment. \n  \nOver our Club’s Christmas break\, please set aside anything of good condition (it need not be new)\, wrap “anonymously” and bring it along on the evening.
URL:https://www.copsecroydon.co.uk/event/mystery-auction-2/
CATEGORIES:Social,Tuesday Club Nights
END:VEVENT
BEGIN:VEVENT
DTSTART;TZID=Europe/London:20190111T200000
DTEND;TZID=Europe/London:20190111T230000
DTSTAMP:20260423T025431
CREATED:20181217T150927Z
LAST-MODIFIED:20181217T150927Z
UID:2084-1547236800-1547247600@www.copsecroydon.co.uk
SUMMARY:Stanley Halls Barn Dance
DESCRIPTION:
URL:https://www.copsecroydon.co.uk/event/stanley-halls-barn-dance-3/
CATEGORIES:Social
END:VEVENT
BEGIN:VEVENT
DTSTART;TZID=Europe/London:20190112T200000
DTEND;TZID=Europe/London:20190112T230000
DTSTAMP:20260423T025431
CREATED:20181217T151148Z
LAST-MODIFIED:20181217T151148Z
UID:2090-1547323200-1547334000@www.copsecroydon.co.uk
SUMMARY:Godalming Barn Dance
DESCRIPTION:
URL:https://www.copsecroydon.co.uk/event/godalming-barn-dance/
CATEGORIES:Social
END:VEVENT
BEGIN:VEVENT
DTSTART;TZID=Europe/London:20190115T200000
DTEND;TZID=Europe/London:20190115T220000
DTSTAMP:20260423T025431
CREATED:20181218T130309Z
LAST-MODIFIED:20190309T152925Z
UID:2098-1547582400-1547589600@www.copsecroydon.co.uk
SUMMARY:85th COPSE Birthday
DESCRIPTION:We will celebrate with a show of Memories of COPSE trips.
URL:https://www.copsecroydon.co.uk/event/85th-copse-birthday/
CATEGORIES:Social,Tuesday Club Nights
END:VEVENT
BEGIN:VEVENT
DTSTART;TZID=Europe/London:20190119T193000
DTEND;TZID=Europe/London:20190119T223000
DTSTAMP:20260423T025431
CREATED:20181217T150206Z
LAST-MODIFIED:20181217T150206Z
UID:2076-1547926200-1547937000@www.copsecroydon.co.uk
SUMMARY:Carshalton Village Ceilidhs Dance at The Ruskin Hall
DESCRIPTION:Tickets £ 8 on the door\, doors open at 7.15 \n  \nHot drinks and cakes provided \n  \nNo alcohol is permitted on the premises
URL:https://www.copsecroydon.co.uk/event/carshalton-village-ceilidhs-dance-at-the-ruskin-hall/
CATEGORIES:Social
END:VEVENT
BEGIN:VEVENT
DTSTART;TZID=Europe/London:20190122T203000
DTEND;TZID=Europe/London:20190122T220000
DTSTAMP:20260423T025431
CREATED:20181218T130842Z
LAST-MODIFIED:20190309T152906Z
UID:2100-1548189000-1548194400@www.copsecroydon.co.uk
SUMMARY:Room 101
DESCRIPTION:Your chance to let out your pet hates.
URL:https://www.copsecroydon.co.uk/event/room-101/
CATEGORIES:Social,Tuesday Club Nights
END:VEVENT
BEGIN:VEVENT
DTSTART;TZID=Europe/London:20190129T203000
DTEND;TZID=Europe/London:20190129T220000
DTSTAMP:20260423T025431
CREATED:20181218T130930Z
LAST-MODIFIED:20190309T152846Z
UID:2102-1548793800-1548799200@www.copsecroydon.co.uk
SUMMARY:Talk - English customs & traditions
DESCRIPTION:
URL:https://www.copsecroydon.co.uk/event/talk-english-customs-traditions/
CATEGORIES:Social,Tuesday Club Nights
END:VEVENT
END:VCALENDAR