BEGIN:VCALENDAR
VERSION:2.0
PRODID:-//Croydon Outdoor Pursuits &amp; Social Events Club - ECPv6.15.20//NONSGML v1.0//EN
CALSCALE:GREGORIAN
METHOD:PUBLISH
X-WR-CALNAME:Croydon Outdoor Pursuits &amp; Social Events Club
X-ORIGINAL-URL:https://www.copsecroydon.co.uk
X-WR-CALDESC:Events for Croydon Outdoor Pursuits &amp; Social Events Club
REFRESH-INTERVAL;VALUE=DURATION:PT1H
X-Robots-Tag:noindex
X-PUBLISHED-TTL:PT1H
BEGIN:VTIMEZONE
TZID:Europe/London
BEGIN:DAYLIGHT
TZOFFSETFROM:+0000
TZOFFSETTO:+0100
TZNAME:BST
DTSTART:20180325T010000
END:DAYLIGHT
BEGIN:STANDARD
TZOFFSETFROM:+0100
TZOFFSETTO:+0000
TZNAME:GMT
DTSTART:20181028T010000
END:STANDARD
BEGIN:DAYLIGHT
TZOFFSETFROM:+0000
TZOFFSETTO:+0100
TZNAME:BST
DTSTART:20190331T010000
END:DAYLIGHT
BEGIN:STANDARD
TZOFFSETFROM:+0100
TZOFFSETTO:+0000
TZNAME:GMT
DTSTART:20191027T010000
END:STANDARD
BEGIN:DAYLIGHT
TZOFFSETFROM:+0000
TZOFFSETTO:+0100
TZNAME:BST
DTSTART:20200329T010000
END:DAYLIGHT
BEGIN:STANDARD
TZOFFSETFROM:+0100
TZOFFSETTO:+0000
TZNAME:GMT
DTSTART:20201025T010000
END:STANDARD
END:VTIMEZONE
BEGIN:VEVENT
DTSTART;TZID=Europe/London:20190302T200000
DTEND;TZID=Europe/London:20190302T230000
DTSTAMP:20260422T232639
CREATED:20181217T151243Z
LAST-MODIFIED:20181217T151243Z
UID:2092-1551556800-1551567600@www.copsecroydon.co.uk
SUMMARY:Godalming Barn Dance
DESCRIPTION:
URL:https://www.copsecroydon.co.uk/event/godalming-barn-dance-2/
CATEGORIES:Social
END:VEVENT
BEGIN:VEVENT
DTSTART;TZID=Europe/London:20190305T203000
DTEND;TZID=Europe/London:20190305T220000
DTSTAMP:20260422T232639
CREATED:20181218T131431Z
LAST-MODIFIED:20190309T152457Z
UID:2113-1551817800-1551823200@www.copsecroydon.co.uk
SUMMARY:Pancake Day
DESCRIPTION:
URL:https://www.copsecroydon.co.uk/event/pancake-day-2/
CATEGORIES:Social,Tuesday Club Nights
END:VEVENT
BEGIN:VEVENT
DTSTART;TZID=Europe/London:20190308T200000
DTEND;TZID=Europe/London:20190308T230000
DTSTAMP:20260422T232639
CREATED:20181217T151101Z
LAST-MODIFIED:20190307T082005Z
UID:2088-1552075200-1552086000@www.copsecroydon.co.uk
SUMMARY:Stanley Halls Barn Dance
DESCRIPTION:Join our COPSE group booking for an evening of exercise with a smile on your face!  Total beginners welcome – we all have fun. \n  \nAlso\, it’s a good way to burn off a few of this month’s pancake calories.
URL:https://www.copsecroydon.co.uk/event/stanley-halls-barn-dance-5/
CATEGORIES:Social
END:VEVENT
BEGIN:VEVENT
DTSTART;TZID=Europe/London:20190312T203000
DTEND;TZID=Europe/London:20190312T220000
DTSTAMP:20260422T232639
CREATED:20181218T131508Z
LAST-MODIFIED:20190309T152438Z
UID:2115-1552422600-1552428000@www.copsecroydon.co.uk
SUMMARY:Bring your work home with you
DESCRIPTION:Come along to discover what a mixed bunch our Members are.  Some will be sharing with us how they earn their daily bread.
URL:https://www.copsecroydon.co.uk/event/bring-your-work-home-with-you/
CATEGORIES:Social,Tuesday Club Nights
END:VEVENT
BEGIN:VEVENT
DTSTART;TZID=Europe/London:20190316T193000
DTEND;TZID=Europe/London:20190316T223000
DTSTAMP:20260422T232639
CREATED:20181217T150330Z
LAST-MODIFIED:20181217T150330Z
UID:2078-1552764600-1552775400@www.copsecroydon.co.uk
SUMMARY:Carshalton Village Ceilidhs Dance at The Ruskin Hall
DESCRIPTION:Tickets £ 8 on the door\, doors open at 7.15 \nHot drinks and cakes provided \nNo alcohol is permitted on the premises
URL:https://www.copsecroydon.co.uk/event/carshalton-village-ceilidhs-dance-at-the-ruskin-hall-2/
CATEGORIES:Social
END:VEVENT
BEGIN:VEVENT
DTSTART;TZID=Europe/London:20190319T203000
DTEND;TZID=Europe/London:20190319T220000
DTSTAMP:20260422T232639
CREATED:20181218T131602Z
LAST-MODIFIED:20190309T152406Z
UID:2117-1553027400-1553032800@www.copsecroydon.co.uk
SUMMARY:Captions and Craic
DESCRIPTION:Celebration in Irish Style
URL:https://www.copsecroydon.co.uk/event/captions-and-craic/
CATEGORIES:Social,Tuesday Club Nights
END:VEVENT
BEGIN:VEVENT
DTSTART;TZID=Europe/London:20190326T203000
DTEND;TZID=Europe/London:20190326T220000
DTSTAMP:20260422T232639
CREATED:20181218T131656Z
LAST-MODIFIED:20190309T152351Z
UID:2119-1553632200-1553637600@www.copsecroydon.co.uk
SUMMARY:Magic Evening
DESCRIPTION:We welcome a professional magician to show and teach us a few of his tricks.
URL:https://www.copsecroydon.co.uk/event/magic-evening/
CATEGORIES:Social,Tuesday Club Nights
END:VEVENT
END:VCALENDAR