BEGIN:VCALENDAR
VERSION:2.0
PRODID:-//Croydon Outdoor Pursuits &amp; Social Events Club - ECPv6.15.20//NONSGML v1.0//EN
CALSCALE:GREGORIAN
METHOD:PUBLISH
X-WR-CALNAME:Croydon Outdoor Pursuits &amp; Social Events Club
X-ORIGINAL-URL:https://www.copsecroydon.co.uk
X-WR-CALDESC:Events for Croydon Outdoor Pursuits &amp; Social Events Club
REFRESH-INTERVAL;VALUE=DURATION:PT1H
X-Robots-Tag:noindex
X-PUBLISHED-TTL:PT1H
BEGIN:VTIMEZONE
TZID:Europe/London
BEGIN:DAYLIGHT
TZOFFSETFROM:+0000
TZOFFSETTO:+0100
TZNAME:BST
DTSTART:20180325T010000
END:DAYLIGHT
BEGIN:STANDARD
TZOFFSETFROM:+0100
TZOFFSETTO:+0000
TZNAME:GMT
DTSTART:20181028T010000
END:STANDARD
BEGIN:DAYLIGHT
TZOFFSETFROM:+0000
TZOFFSETTO:+0100
TZNAME:BST
DTSTART:20190331T010000
END:DAYLIGHT
BEGIN:STANDARD
TZOFFSETFROM:+0100
TZOFFSETTO:+0000
TZNAME:GMT
DTSTART:20191027T010000
END:STANDARD
BEGIN:DAYLIGHT
TZOFFSETFROM:+0000
TZOFFSETTO:+0100
TZNAME:BST
DTSTART:20200329T010000
END:DAYLIGHT
BEGIN:STANDARD
TZOFFSETFROM:+0100
TZOFFSETTO:+0000
TZNAME:GMT
DTSTART:20201025T010000
END:STANDARD
END:VTIMEZONE
BEGIN:VEVENT
DTSTART;TZID=Europe/London:20190507T203000
DTEND;TZID=Europe/London:20190507T220000
DTSTAMP:20260422T201558
CREATED:20190329T203344Z
LAST-MODIFIED:20190506T191320Z
UID:2256-1557261000-1557266400@www.copsecroydon.co.uk
SUMMARY:An Introduction to Orienteering: A Navigational Sport
DESCRIPTION:This way or that way?! Join us to find out a good deal concerning the navigational sport of orienteering. An experienced orienteerer will be presenting an introduction to the sport and how its participants approach the various courses and work out the best routes between checkpoints. Even if you don’t imagine you’d choose to become an orienteerer\, it should still be interesting to discover how the sport is tackled. ( Coffees/teas 8.15pm) \nPlease contact Ireen if you would like any further details (07968-035522). \n 
URL:https://www.copsecroydon.co.uk/event/caption-competition-2/
CATEGORIES:Social,Tuesday Club Nights
END:VEVENT
BEGIN:VEVENT
DTSTART;TZID=Europe/London:20190510T193000
DTEND;TZID=Europe/London:20190510T230000
DTSTAMP:20260422T201558
CREATED:20190506T191948Z
LAST-MODIFIED:20190506T191948Z
UID:2334-1557516600-1557529200@www.copsecroydon.co.uk
SUMMARY:Barn Dance at Stanley Halls\, South Norwood
DESCRIPTION:If you fancy some exercise with a smile on your face\, come and join our COPSE Members going to an evening Barn Dance at Stanley Halls\, South Norwood\, London SE25. D ance to traditional rhythms and follow the twists and turns of the various line and circle formations. (All dances are explained by a Caller.) The band is “Florida”\, whose sound is a fusion of swing\, jazz\, traditional folk\, folk rock. \nPlease contact Ireen if you would like any further details: 07968 035522.
URL:https://www.copsecroydon.co.uk/event/barn-dance-at-stanley-halls-south-norwood/
LOCATION:Stanley Halls\, 12 South Norwood Hill\, London\, SE25 6AB\, United Kingdom
CATEGORIES:Social
END:VEVENT
BEGIN:VEVENT
DTSTART;TZID=Europe/London:20190514T203000
DTEND;TZID=Europe/London:20190514T220000
DTSTAMP:20260422T201558
CREATED:20190329T203508Z
LAST-MODIFIED:20190513T122133Z
UID:2258-1557865800-1557871200@www.copsecroydon.co.uk
SUMMARY:Talk - Body Language
DESCRIPTION:Join us for an interactive evening to learn about interpreting Body Language through doing and observing. \n  \nNina  will be leading us through the subject in an insight-full and fun way.
URL:https://www.copsecroydon.co.uk/event/talk-body-language/
CATEGORIES:Social,Tuesday Club Nights
END:VEVENT
END:VCALENDAR