BEGIN:VCALENDAR
VERSION:2.0
PRODID:-//Croydon Outdoor Pursuits &amp; Social Events Club - ECPv6.15.20//NONSGML v1.0//EN
CALSCALE:GREGORIAN
METHOD:PUBLISH
X-ORIGINAL-URL:https://www.copsecroydon.co.uk
X-WR-CALDESC:Events for Croydon Outdoor Pursuits &amp; Social Events Club
REFRESH-INTERVAL;VALUE=DURATION:PT1H
X-Robots-Tag:noindex
X-PUBLISHED-TTL:PT1H
BEGIN:VTIMEZONE
TZID:Europe/London
BEGIN:DAYLIGHT
TZOFFSETFROM:+0000
TZOFFSETTO:+0100
TZNAME:BST
DTSTART:20180325T010000
END:DAYLIGHT
BEGIN:STANDARD
TZOFFSETFROM:+0100
TZOFFSETTO:+0000
TZNAME:GMT
DTSTART:20181028T010000
END:STANDARD
BEGIN:DAYLIGHT
TZOFFSETFROM:+0000
TZOFFSETTO:+0100
TZNAME:BST
DTSTART:20190331T010000
END:DAYLIGHT
BEGIN:STANDARD
TZOFFSETFROM:+0100
TZOFFSETTO:+0000
TZNAME:GMT
DTSTART:20191027T010000
END:STANDARD
BEGIN:DAYLIGHT
TZOFFSETFROM:+0000
TZOFFSETTO:+0100
TZNAME:BST
DTSTART:20200329T010000
END:DAYLIGHT
BEGIN:STANDARD
TZOFFSETFROM:+0100
TZOFFSETTO:+0000
TZNAME:GMT
DTSTART:20201025T010000
END:STANDARD
END:VTIMEZONE
BEGIN:VEVENT
DTSTART;TZID=Europe/London:20190901T093000
DTEND;TZID=Europe/London:20190901T180000
DTSTAMP:20260422T135747
CREATED:20190626T074025Z
LAST-MODIFIED:20190829T194206Z
UID:2376-1567330200-1567360800@www.copsecroydon.co.uk
SUMMARY:Godalming Music in the Park plus walk
DESCRIPTION:A full day out starting with a walk. \n  \n  \nMeet at East Croydon station at 9.30 for the 9.46 to Clapham Junction\, changing there for the 10.09 to Guildford\, arriving there at 10.40. \n  \n  \nThe day involves a canal-side walk of about five miles\,  a stop at the National Trust’s award-winning Visitor Centre at Dapdune Wharf (where cakes\, coffees etc. can be bought!) and an afternoon performance by the Will Shackleton Band at the bandstand in the beautiful park setting\, right beside the River Wey in Godalming. \n  \n  \nBring your own picnic or you can stock up at the Waitrose store near to the park. \n  \n  \nThe lead musician is accomplished in jazz (he has played at Ronnie Scotts) and rock (having been a guitarist with Phil Collins and played keyboard with Eric Clapton).  His performances might have folk and blues thrown in and he is acclaimed as a singer/songwriter.
URL:https://www.copsecroydon.co.uk/event/godalming-music-in-the-park/
CATEGORIES:Social
END:VEVENT
BEGIN:VEVENT
DTSTART;TZID=Europe/London:20190913T200000
DTEND;TZID=Europe/London:20190913T230000
DTSTAMP:20260422T135747
CREATED:20190626T074118Z
LAST-MODIFIED:20190626T074118Z
UID:2378-1568404800-1568415600@www.copsecroydon.co.uk
SUMMARY:Stanley Halls Ceilidh Dance
DESCRIPTION:
URL:https://www.copsecroydon.co.uk/event/stanley-halls-ceilidh-dance/
CATEGORIES:Social
END:VEVENT
BEGIN:VEVENT
DTSTART;TZID=Europe/London:20190924T201500
DTEND;TZID=Europe/London:20190924T220000
DTSTAMP:20260422T135747
CREATED:20190820T071951Z
LAST-MODIFIED:20191019T220743Z
UID:2450-1569356100-1569362400@www.copsecroydon.co.uk
SUMMARY:Talk - a COPSE Member's Overseas Travels
DESCRIPTION:The presentation will take us around both India and New Zealand. \n  \nIn the former\, we shall share their sight-seeing trip\, which included ten days of cycling.  In the latter\, we shall jump aboard their nine week campervan tour.
URL:https://www.copsecroydon.co.uk/event/talk-a-copse-members-overseas-travels/
CATEGORIES:Social,Tuesday Club Nights
END:VEVENT
END:VCALENDAR