BEGIN:VCALENDAR
VERSION:2.0
PRODID:-//Croydon Outdoor Pursuits &amp; Social Events Club - ECPv6.15.20//NONSGML v1.0//EN
CALSCALE:GREGORIAN
METHOD:PUBLISH
X-WR-CALNAME:Croydon Outdoor Pursuits &amp; Social Events Club
X-ORIGINAL-URL:https://www.copsecroydon.co.uk
X-WR-CALDESC:Events for Croydon Outdoor Pursuits &amp; Social Events Club
REFRESH-INTERVAL;VALUE=DURATION:PT1H
X-Robots-Tag:noindex
X-PUBLISHED-TTL:PT1H
BEGIN:VTIMEZONE
TZID:Europe/London
BEGIN:DAYLIGHT
TZOFFSETFROM:+0000
TZOFFSETTO:+0100
TZNAME:BST
DTSTART:20180325T010000
END:DAYLIGHT
BEGIN:STANDARD
TZOFFSETFROM:+0100
TZOFFSETTO:+0000
TZNAME:GMT
DTSTART:20181028T010000
END:STANDARD
BEGIN:DAYLIGHT
TZOFFSETFROM:+0000
TZOFFSETTO:+0100
TZNAME:BST
DTSTART:20190331T010000
END:DAYLIGHT
BEGIN:STANDARD
TZOFFSETFROM:+0100
TZOFFSETTO:+0000
TZNAME:GMT
DTSTART:20191027T010000
END:STANDARD
BEGIN:DAYLIGHT
TZOFFSETFROM:+0000
TZOFFSETTO:+0100
TZNAME:BST
DTSTART:20200329T010000
END:DAYLIGHT
BEGIN:STANDARD
TZOFFSETFROM:+0100
TZOFFSETTO:+0000
TZNAME:GMT
DTSTART:20201025T010000
END:STANDARD
END:VTIMEZONE
BEGIN:VEVENT
DTSTART;TZID=Europe/London:20191001T201500
DTEND;TZID=Europe/London:20191001T220000
DTSTAMP:20260422T122958
CREATED:20190928T185226Z
LAST-MODIFIED:20191019T220714Z
UID:2536-1569960900-1569967200@www.copsecroydon.co.uk
SUMMARY:Talk - Plitvice Lakes National Park in Croatia
DESCRIPTION:Frank and Natalia will share their memories about they holiday in this stunning place
URL:https://www.copsecroydon.co.uk/event/talk-plitvice-lakes-national-park-in-croatia/
CATEGORIES:Social,Tuesday Club Nights
END:VEVENT
BEGIN:VEVENT
DTSTART;TZID=Europe/London:20191002T070000
DTEND;TZID=Europe/London:20191002T220000
DTSTAMP:20260422T122958
CREATED:20190914T063732Z
LAST-MODIFIED:20190914T063732Z
UID:2470-1569999600-1570053600@www.copsecroydon.co.uk
SUMMARY:Choral Concert at Croydon Minster
DESCRIPTION:
URL:https://www.copsecroydon.co.uk/event/choral-concert-at-croydon-minster/
CATEGORIES:Social
END:VEVENT
BEGIN:VEVENT
DTSTART;TZID=Europe/London:20191008T081500
DTEND;TZID=Europe/London:20191008T220000
DTSTAMP:20260422T122958
CREATED:20190928T190201Z
LAST-MODIFIED:20191019T220655Z
UID:2539-1570522500-1570572000@www.copsecroydon.co.uk
SUMMARY:Macmillan Coffee Evening
DESCRIPTION:A chance to try different beautiful cakes\, take part in a “Dunk the biscuit competition” and a live music challenge quiz. \n  \nDon’t forget to bring your pocket money to donate to the wonderful charity Macmillan \n  \n 
URL:https://www.copsecroydon.co.uk/event/macmillan-coffee-evening/
CATEGORIES:Social,Tuesday Club Nights
ORGANIZER;CN="Olga":MAILTO:olga@copsecroydon.co.uk
END:VEVENT
BEGIN:VEVENT
DTSTART;TZID=Europe/London:20191011T200000
DTEND;TZID=Europe/London:20191011T230000
DTSTAMP:20260422T122958
CREATED:20190914T064017Z
LAST-MODIFIED:20191008T072533Z
UID:2474-1570824000-1570834800@www.copsecroydon.co.uk
SUMMARY:Stanley Halls Barn Dance
DESCRIPTION:This is a chance to dance to traditional rhythms\, following the twists and turns of various line and circle formations\, all enjoyed by instructions to us from “the caller”.  \nThis month’s band: \n”Take the Biscuit”\, has an exciting young duo Beth Gifford (Viola) and Matt Brookes (Accordion) with driving back line Rob Gifford (Drums)  and Trevor Lines (Bass).  The band plays at least one tune written by every member of the band\, combining mostly original material with some traditional English tunes.\n\n\n\n\nVenue: https://www.stanleyhalls.org.uk/contact-us\n\nEasily accessible by public transport.\n\n\n\n\nBuses: Routes 196 and 410 stop directly outside of Stanley Halls. Routes 75\, 197\, 312 and 157 stop within a few minutes walk. \nTrains: Stanley Halls is just a five minute walk from Norwood Junction station.
URL:https://www.copsecroydon.co.uk/event/stanley-halls-barn-dance-6/
CATEGORIES:Social
END:VEVENT
BEGIN:VEVENT
DTSTART;TZID=Europe/London:20191012T170000
DTEND;TZID=Europe/London:20191012T170000
DTSTAMP:20260422T122958
CREATED:20190914T064249Z
LAST-MODIFIED:20190922T083910Z
UID:2478-1570899600-1570899600@www.copsecroydon.co.uk
SUMMARY:Harvest Barn Dance\, St Matthew’s Church\, Redhill
DESCRIPTION:The cost is £8.00\, which includes a supper of hot dog and ice cream\, but please bring your own glass and drinks.\n\nSt Matthew’s is on Station Road\, close to both the railway and bus stations. See: http://stmatthews-redhill.org.uk/about/find-us/.
URL:https://www.copsecroydon.co.uk/event/barn-dance-st-matthews-church-redhill/
CATEGORIES:Social
END:VEVENT
BEGIN:VEVENT
DTSTART;TZID=Europe/London:20191015T200000
DTEND;TZID=Europe/London:20191015T220000
DTSTAMP:20260422T122958
CREATED:20190928T190627Z
LAST-MODIFIED:20191019T220624Z
UID:2541-1571169600-1571176800@www.copsecroydon.co.uk
SUMMARY:Blues Jam at The Oval Tavern
DESCRIPTION:131 OVAL ROAD CROYDON CR0 6BR\n  \nNO MEETING AT THE HALLL
URL:https://www.copsecroydon.co.uk/event/blues-jam-at-the-oval-tavern/
CATEGORIES:Social,Tuesday Club Nights
END:VEVENT
BEGIN:VEVENT
DTSTART;TZID=Europe/London:20191022T201500
DTEND;TZID=Europe/London:20191022T220000
DTSTAMP:20260422T122958
CREATED:20190928T190745Z
LAST-MODIFIED:20191020T191720Z
UID:2543-1571775300-1571781600@www.copsecroydon.co.uk
SUMMARY:Abigail's Party & All Things 70ies
DESCRIPTION:·         An introduction to the evening \n·         Abigail’s Party – the iconic 1970’s play \n·         Quiz on all things 70’s \n·         Music and dancing \n\nDressing up in appropriate attire is optional.  You may bring your favourite or 70’s related tipple.
URL:https://www.copsecroydon.co.uk/event/abigails-party-all-things-70ies/
CATEGORIES:Social,Tuesday Club Nights
END:VEVENT
BEGIN:VEVENT
DTSTART;TZID=Europe/London:20191026T140000
DTEND;TZID=Europe/London:20191026T170000
DTSTAMP:20260422T122958
CREATED:20190914T064540Z
LAST-MODIFIED:20191021T180106Z
UID:2484-1572098400-1572109200@www.copsecroydon.co.uk
SUMMARY:Guided Brewery Tour
DESCRIPTION:Meet by 1.45 p.m at The Hop Stop bar at 73\, Bell Street\, Reigate RH2 7AN. \nThe tour will start promptly at 2pm and finish at 4pm. \nFor Croydonians\, get the 12.57 train from East Croydon to Reigate Station\, arriving 13.23.  It is a 10-15 minute walk to the bar. \nFor drivers\, Bell Street Car park is close to the start point. \nThere are still a few places available if anyone has a last minute desire to join us\, but please let me know first..
URL:https://www.copsecroydon.co.uk/event/guided-brewery-tour/
CATEGORIES:Social
END:VEVENT
END:VCALENDAR