BEGIN:VCALENDAR
VERSION:2.0
PRODID:-//Croydon Outdoor Pursuits &amp; Social Events Club - ECPv6.15.20//NONSGML v1.0//EN
CALSCALE:GREGORIAN
METHOD:PUBLISH
X-WR-CALNAME:Croydon Outdoor Pursuits &amp; Social Events Club
X-ORIGINAL-URL:https://www.copsecroydon.co.uk
X-WR-CALDESC:Events for Croydon Outdoor Pursuits &amp; Social Events Club
REFRESH-INTERVAL;VALUE=DURATION:PT1H
X-Robots-Tag:noindex
X-PUBLISHED-TTL:PT1H
BEGIN:VTIMEZONE
TZID:Europe/London
BEGIN:DAYLIGHT
TZOFFSETFROM:+0000
TZOFFSETTO:+0100
TZNAME:BST
DTSTART:20190331T010000
END:DAYLIGHT
BEGIN:STANDARD
TZOFFSETFROM:+0100
TZOFFSETTO:+0000
TZNAME:GMT
DTSTART:20191027T010000
END:STANDARD
BEGIN:DAYLIGHT
TZOFFSETFROM:+0000
TZOFFSETTO:+0100
TZNAME:BST
DTSTART:20200329T010000
END:DAYLIGHT
BEGIN:STANDARD
TZOFFSETFROM:+0100
TZOFFSETTO:+0000
TZNAME:GMT
DTSTART:20201025T010000
END:STANDARD
BEGIN:DAYLIGHT
TZOFFSETFROM:+0000
TZOFFSETTO:+0100
TZNAME:BST
DTSTART:20210328T010000
END:DAYLIGHT
BEGIN:STANDARD
TZOFFSETFROM:+0100
TZOFFSETTO:+0000
TZNAME:GMT
DTSTART:20211031T010000
END:STANDARD
END:VTIMEZONE
BEGIN:VEVENT
DTSTART;TZID=Europe/London:20200204T201500
DTEND;TZID=Europe/London:20200204T220000
DTSTAMP:20260420T062834
CREATED:20200110T160601Z
LAST-MODIFIED:20200203T140800Z
UID:2739-1580847300-1580853600@www.copsecroydon.co.uk
SUMMARY:Fun Quiz
DESCRIPTION:It’s a fun and stimulating general knowledge quiz  complete with slides so you can read the questions as well.
URL:https://www.copsecroydon.co.uk/event/quiz-6/
CATEGORIES:Social
END:VEVENT
BEGIN:VEVENT
DTSTART;TZID=Europe/London:20200229T110000
DTEND;TZID=Europe/London:20200229T200000
DTSTAMP:20260420T062834
CREATED:20191227T180059Z
LAST-MODIFIED:20200225T101302Z
UID:2696-1582974000-1583006400@www.copsecroydon.co.uk
SUMMARY:Walk\, meal & Ice-Hockey game
DESCRIPTION:Meet at 10.45 outside Crystal Palace station (where the coffee stall may be open) \n\nLeave around 11.00 to  walk up to the Crystal Palace museum (free)\nCoffee/loo stop at “The Postal Order”  Wetherspoons @ 32 Westow Street\n\nWalk along Capital Ring section no 4 (four miles) via Norwood Grove\, Biggin Wood\, Streatham Common and the “Rookery Gardens”\n\nStop at “The Bull” Youngs gastro-pub (498 Streatham High Road) for drinks/food\nwhich has plenty of space both inside and outside.\n\n\nLeave the pub about 16.45\, short walk to Streatham Leisure Centre for the Streatham Redhawks\nv Milton Keynes thunder ice hockey game (5.30pm start) where ticket prices are £12/£7 which can\nbe bought online or on the night.
URL:https://www.copsecroydon.co.uk/event/walk-meal-ice-hockey-game/
CATEGORIES:Social
END:VEVENT
END:VCALENDAR