BEGIN:VCALENDAR
VERSION:2.0
PRODID:-//Croydon Outdoor Pursuits &amp; Social Events Club - ECPv6.15.20//NONSGML v1.0//EN
CALSCALE:GREGORIAN
METHOD:PUBLISH
X-WR-CALNAME:Croydon Outdoor Pursuits &amp; Social Events Club
X-ORIGINAL-URL:https://www.copsecroydon.co.uk
X-WR-CALDESC:Events for Croydon Outdoor Pursuits &amp; Social Events Club
REFRESH-INTERVAL;VALUE=DURATION:PT1H
X-Robots-Tag:noindex
X-PUBLISHED-TTL:PT1H
BEGIN:VTIMEZONE
TZID:Europe/London
BEGIN:DAYLIGHT
TZOFFSETFROM:+0000
TZOFFSETTO:+0100
TZNAME:BST
DTSTART:20190331T010000
END:DAYLIGHT
BEGIN:STANDARD
TZOFFSETFROM:+0100
TZOFFSETTO:+0000
TZNAME:GMT
DTSTART:20191027T010000
END:STANDARD
BEGIN:DAYLIGHT
TZOFFSETFROM:+0000
TZOFFSETTO:+0100
TZNAME:BST
DTSTART:20200329T010000
END:DAYLIGHT
BEGIN:STANDARD
TZOFFSETFROM:+0100
TZOFFSETTO:+0000
TZNAME:GMT
DTSTART:20201025T010000
END:STANDARD
BEGIN:DAYLIGHT
TZOFFSETFROM:+0000
TZOFFSETTO:+0100
TZNAME:BST
DTSTART:20210328T010000
END:DAYLIGHT
BEGIN:STANDARD
TZOFFSETFROM:+0100
TZOFFSETTO:+0000
TZNAME:GMT
DTSTART:20211031T010000
END:STANDARD
END:VTIMEZONE
BEGIN:VEVENT
DTSTART;TZID=Europe/London:20200303T201500
DTEND;TZID=Europe/London:20200303T220000
DTSTAMP:20260420T043625
CREATED:20200110T161115Z
LAST-MODIFIED:20200111T123038Z
UID:2745-1583266500-1583272800@www.copsecroydon.co.uk
SUMMARY:COPSE Vision
DESCRIPTION:Ben Greenwood\, a professional Video Producer\, is coming to show us video editing methods and run a workshop for us to learn how to turn our adventure stories into video clips.  An essential aid to getting our message out there in the modern era.
URL:https://www.copsecroydon.co.uk/event/copse-vision/
CATEGORIES:Social,Tuesday Club Nights
END:VEVENT
BEGIN:VEVENT
DTSTART;TZID=Europe/London:20200310T201500
DTEND;TZID=Europe/London:20200310T220000
DTSTAMP:20260420T043625
CREATED:20200110T161229Z
LAST-MODIFIED:20200111T123022Z
UID:2747-1583871300-1583877600@www.copsecroydon.co.uk
SUMMARY:“A 100 Year Mystery\, Finally Solved”
DESCRIPTION:COPSE Associate Graham Chamberlain followed a trail to unravel a family puzzle that had links across Europe.  He shares his story.
URL:https://www.copsecroydon.co.uk/event/a-100-year-mystery-finally-solved/
CATEGORIES:Social,Tuesday Club Nights
END:VEVENT
BEGIN:VEVENT
DTSTART;TZID=Europe/London:20200317T201500
DTEND;TZID=Europe/London:20200317T220000
DTSTAMP:20260420T043625
CREATED:20200110T161333Z
LAST-MODIFIED:20200111T123004Z
UID:2749-1584476100-1584482400@www.copsecroydon.co.uk
SUMMARY:St Patrick’s Night Social
DESCRIPTION:An excuse for a party and a bit of food
URL:https://www.copsecroydon.co.uk/event/st-patricks-night-social/
CATEGORIES:Social,Tuesday Club Nights
END:VEVENT
BEGIN:VEVENT
DTSTART;TZID=Europe/London:20200324T201500
DTEND;TZID=Europe/London:20200324T220000
DTSTAMP:20260420T043625
CREATED:20200110T161427Z
LAST-MODIFIED:20200318T135248Z
UID:2751-1585080900-1585087200@www.copsecroydon.co.uk
SUMMARY:A Flutter on the Horses - CANCELLED
DESCRIPTION:Due to Corona Virus and in line with public health advice\, this event is now cancelled
URL:https://www.copsecroydon.co.uk/event/a-flutter-on-the-horses/
CATEGORIES:Social,Tuesday Club Nights
END:VEVENT
BEGIN:VEVENT
DTSTART;TZID=Europe/London:20200331T201500
DTEND;TZID=Europe/London:20200331T220000
DTSTAMP:20260420T043625
CREATED:20200110T161524Z
LAST-MODIFIED:20200318T135314Z
UID:2753-1585685700-1585692000@www.copsecroydon.co.uk
SUMMARY:Members’ travels - CANCELLED
DESCRIPTION:Due to Corona Virus and in line with public health advice\, this event is now cancelled
URL:https://www.copsecroydon.co.uk/event/members-travels/
CATEGORIES:Social,Tuesday Club Nights
END:VEVENT
END:VCALENDAR