BEGIN:VCALENDAR
VERSION:2.0
PRODID:-//Croydon Outdoor Pursuits &amp; Social Events Club - ECPv6.15.20//NONSGML v1.0//EN
CALSCALE:GREGORIAN
METHOD:PUBLISH
X-WR-CALNAME:Croydon Outdoor Pursuits &amp; Social Events Club
X-ORIGINAL-URL:https://www.copsecroydon.co.uk
X-WR-CALDESC:Events for Croydon Outdoor Pursuits &amp; Social Events Club
REFRESH-INTERVAL;VALUE=DURATION:PT1H
X-Robots-Tag:noindex
X-PUBLISHED-TTL:PT1H
BEGIN:VTIMEZONE
TZID:Europe/London
BEGIN:DAYLIGHT
TZOFFSETFROM:+0000
TZOFFSETTO:+0100
TZNAME:BST
DTSTART:20220327T010000
END:DAYLIGHT
BEGIN:STANDARD
TZOFFSETFROM:+0100
TZOFFSETTO:+0000
TZNAME:GMT
DTSTART:20221030T010000
END:STANDARD
BEGIN:DAYLIGHT
TZOFFSETFROM:+0000
TZOFFSETTO:+0100
TZNAME:BST
DTSTART:20230326T010000
END:DAYLIGHT
BEGIN:STANDARD
TZOFFSETFROM:+0100
TZOFFSETTO:+0000
TZNAME:GMT
DTSTART:20231029T010000
END:STANDARD
BEGIN:DAYLIGHT
TZOFFSETFROM:+0000
TZOFFSETTO:+0100
TZNAME:BST
DTSTART:20240331T010000
END:DAYLIGHT
BEGIN:STANDARD
TZOFFSETFROM:+0100
TZOFFSETTO:+0000
TZNAME:GMT
DTSTART:20241027T010000
END:STANDARD
END:VTIMEZONE
BEGIN:VEVENT
DTSTART;TZID=Europe/London:20231105T100000
DTEND;TZID=Europe/London:20231105T170000
DTSTAMP:20260420T135629
CREATED:20231103T104709Z
LAST-MODIFIED:20231103T104709Z
UID:4971-1699178400-1699203600@www.copsecroydon.co.uk
SUMMARY:Burning the Sticks Walk
DESCRIPTION:A late addition to the Programme\, following on from the Brockham Bonfire . . . \nI thought it would be good to go to the Burning the Sticks on Brockham Green\, which takes place around the embers of the Bonfire of the night before (which some of us are going to\, of course). \nBest to come via West Croydon down to Dorking Main Rail Stn. Catch the train from WCroy at 10.29am and change at Sutton. I will meet people at Sutton\, but there’s a possibility I may not be able to get on until the train calls at Epsom. \nIf you want to come via Redhill\, there is engineering work involving a bus replacement for part of the way\, but you could do this route if you want. Let me know and we’ll pass the Deepdene Stn on the way to Brockham. \nWe will walk to Brockham a slightly different way from that we follow on Saturday\, given that it will be light. We may well come back a different way\, via Box Hill\, either around the top or base\, depending on time. \nBurning the Sticks will be at around 1pm around the embers of the Bonfire (which some of us will have been at the night before) with Morris Dancing by Rampant Roosters Morris. The pub will be there too and you can bring your own stuff too. \nAbout 7 miles walk\, possibly with a high ascent in the afternoon! \nPaul N/ 07968 223589
URL:https://www.copsecroydon.co.uk/event/burning-the-sticks-walk/
LOCATION:Dorking
CATEGORIES:Outdoor Events,Walking
END:VEVENT
END:VCALENDAR