BEGIN:VCALENDAR
VERSION:2.0
PRODID:-//Croydon Outdoor Pursuits &amp; Social Events Club - ECPv6.15.20//NONSGML v1.0//EN
CALSCALE:GREGORIAN
METHOD:PUBLISH
X-WR-CALNAME:Croydon Outdoor Pursuits &amp; Social Events Club
X-ORIGINAL-URL:https://www.copsecroydon.co.uk
X-WR-CALDESC:Events for Croydon Outdoor Pursuits &amp; Social Events Club
REFRESH-INTERVAL;VALUE=DURATION:PT1H
X-Robots-Tag:noindex
X-PUBLISHED-TTL:PT1H
BEGIN:VTIMEZONE
TZID:Europe/London
BEGIN:DAYLIGHT
TZOFFSETFROM:+0000
TZOFFSETTO:+0100
TZNAME:BST
DTSTART:20220327T010000
END:DAYLIGHT
BEGIN:STANDARD
TZOFFSETFROM:+0100
TZOFFSETTO:+0000
TZNAME:GMT
DTSTART:20221030T010000
END:STANDARD
BEGIN:DAYLIGHT
TZOFFSETFROM:+0000
TZOFFSETTO:+0100
TZNAME:BST
DTSTART:20230326T010000
END:DAYLIGHT
BEGIN:STANDARD
TZOFFSETFROM:+0100
TZOFFSETTO:+0000
TZNAME:GMT
DTSTART:20231029T010000
END:STANDARD
BEGIN:DAYLIGHT
TZOFFSETFROM:+0000
TZOFFSETTO:+0100
TZNAME:BST
DTSTART:20240331T010000
END:DAYLIGHT
BEGIN:STANDARD
TZOFFSETFROM:+0100
TZOFFSETTO:+0000
TZNAME:GMT
DTSTART:20241027T010000
END:STANDARD
BEGIN:DAYLIGHT
TZOFFSETFROM:+0000
TZOFFSETTO:+0100
TZNAME:BST
DTSTART:20250330T010000
END:DAYLIGHT
BEGIN:STANDARD
TZOFFSETFROM:+0100
TZOFFSETTO:+0000
TZNAME:GMT
DTSTART:20251026T010000
END:STANDARD
END:VTIMEZONE
BEGIN:VEVENT
DTSTART;VALUE=DATE:20231202
DTEND;VALUE=DATE:20231203
DTSTAMP:20260420T122747
CREATED:20230928T132150Z
LAST-MODIFIED:20231127T142602Z
UID:4902-1701475200-1701561599@www.copsecroydon.co.uk
SUMMARY:Reigate Christmas Market (Morning) - Walk in area (Afternoon)
DESCRIPTION:Three events in one. \nIn the morning from 1130 you can shop at Reigate’s Christmas Fayre.  \nIn the afternoon at 1315\, please meet Margaret at the Renewed Hope/RDO stall outside Hamptons Estate Agents at 6 Church St for a Linear Walk of 4-5 miles along the Greensand Way to Earlswood via Prior Park and Earlswood Commons. It maybe muddy in places\, so walking boots are recommended. There will be some uphill and downhill sections on the walk. \nPlease have your lunch etc. before starting the the walk and be ready to leave promptly at 13.30. \nTrains leave East Croydon at 10.46 and 11.16\, changing at Redhill.  You can also get the 405 bus to Redhill and then another bus to Reigate\,  There will be road closures in Reigate for the Fayre\, so parking maybe difficult. \nThe walk will probably finish in Redhill.  However please bring Bus/Freedom Passpasses or £2/contactless for a bus ticket if the walk carries onto Nutfield.
URL:https://www.copsecroydon.co.uk/event/reigate-christmas-market-morning-walk-in-area-afternoon/
CATEGORIES:Outdoor Events,Social,Walking
END:VEVENT
BEGIN:VEVENT
DTSTART;TZID=Europe/London:20231210T120000
DTEND;TZID=Europe/London:20231210T170000
DTSTAMP:20260420T122747
CREATED:20230928T132541Z
LAST-MODIFIED:20231208T180255Z
UID:4904-1702209600-1702227600@www.copsecroydon.co.uk
SUMMARY:Sunday Walk with Pepys
DESCRIPTION:Where?\nThis Sunday\, join me for a stroll through some familiar parts of London with a historical context. We’re going to follow the 17th Century footsteps of Samuel Pepys from Westminster to the City of London. I’ll be your amateur guide\, book in hand\, pointing out the connections to Pepys on the way. No doubt other COPSErs will chip in with their own observations! \nThis will be an easy 2-3 hour walk along pavements (boots not required) for about 4 miles\, ending with an optional beer or two at a historic tavern that also serves food. \nWho was Pepys? \n \nA man who lived through the upheavals of the Civil War\, the execution of Charles I\, the reign of Cromwell and the subsequent restoration of the Monarchy with Charles II. Most significantly for us\, from 1660 to 1669 he wrote a daily diary describing events high and low. He was a man on the rise with connections to politics and royalty\, but determined to enjoy life with visits to taverns and theatres\, domestic life with his French wife\, and furtive dalliances with a variety of disreputable ladies. \nGetting there\nI’ll be catching the 12.05 Croydon Platform 1 to Victoria\, then District & Circle line to Westminster. \nJoining opportunities: \n\n\n\n\n\nEast Croydon station from 11.50\n\n\nhttps://w3w.co/dock.jars.folds\n\n\n\n\nVictoria station from our scheduled arrival time 12.21\n\n\nhttps://w3w.co/venue.runner.slurs\n\n\n\n\noutside Westminster underground station\, Victoria Embankment (Exit 2 – statue of Boudicca) from about 12.45\n\n\nhttps://w3w.co/manliness.fact.proper\n\n\n\n. \nCall me (number below) if any difficulty joining up. \nThe return trip will be at your leisure – there are good services to East Croydon from Blackfriars\, or you could catch a bus or tube back to Victoria. \nLinks\nPepys’s diary for this day 363 years ago: https://www.pepysdiary.com/ \nGeneral info on Pepys: https://en.wikipedia.org/wiki/Samuel_Pepys \nContact\nKen on 07921 258876 \n\nWhat3Words\nExplanation is here. You can use the links to find any 3-metre square on earth. For best results\, download the App.
URL:https://www.copsecroydon.co.uk/event/walk-6/
CATEGORIES:Outdoor Events,Walking
ORGANIZER;CN="Ken":MAILTO:ken@brogan.co.uk
END:VEVENT
BEGIN:VEVENT
DTSTART;TZID=Europe/London:20231217T080000
DTEND;TZID=Europe/London:20231217T190000
DTSTAMP:20260420T122747
CREATED:20230928T133329Z
LAST-MODIFIED:20231206T164959Z
UID:4911-1702800000-1702839600@www.copsecroydon.co.uk
SUMMARY:Walk in Edenbridge area ending with Mulled Wine/Minced Tarts
DESCRIPTION:New Route and new Pub\nTim is leading a circular “Festive Walk” from Edenbridge to Crockham Hill and back on Sunday 17th December. Catch the 09.23 train from East Croydon to Uckfield\, alighting at Edenbridge Town at 09.46. We will then walk to the Royal Oak pub in Crockham Hill for refreshments – there won’t be time for a sit down meal but you will probably be able to get a snack. Otherwise\, bring your own snack. The walk will return to Tim’s house for Mulled Wine and Mince Pies\, or you can head straight back to the Station\, one train per hour. The walk is about 8.5 miles long.\nYou must complete the walk to be able to partake in the refreshments. Do not turn up just for the Mulled Wine and Tarts \nPlease let Tim know if you intend to come so that I know what numbers to expect.
URL:https://www.copsecroydon.co.uk/event/walk-in-edenbridge-area-ending-with-mulled-wine-minced-tarts/
CATEGORIES:Outdoor Events,Walking
ORGANIZER;CN="Tim A":MAILTO:timcpfcaldridge@hotmail.com
END:VEVENT
BEGIN:VEVENT
DTSTART;VALUE=DATE:20231227
DTEND;VALUE=DATE:20240102
DTSTAMP:20260420T122747
CREATED:20230928T133634Z
LAST-MODIFIED:20231016T211002Z
UID:4913-1703635200-1704153599@www.copsecroydon.co.uk
SUMMARY:New Year Trip Away  (Cancelled due to unforeseen circumstances)
DESCRIPTION:Details to be announced.
URL:https://www.copsecroydon.co.uk/event/new-year-trip-away/
CATEGORIES:Further Afield,Outdoor Events,Social,Walking
END:VEVENT
BEGIN:VEVENT
DTSTART;TZID=Europe/London:20231227T100000
DTEND;TZID=Europe/London:20231227T170000
DTSTAMP:20260420T122747
CREATED:20231220T160357Z
LAST-MODIFIED:20231224T104454Z
UID:5134-1703671200-1703696400@www.copsecroydon.co.uk
SUMMARY:Easy post-Christmas local walk and museum visit
DESCRIPTION:Local walk and museum visit.\nMeet at Coombe Lane tram stop Wednesday 27th December to start the walk at 10:30am. We’ll walk about three miles through green spaces and suburban streets to the Museum of the Mind in West Wickham. The Museum is part of Bethlem Hospital https://museumofthemind.org.uk/. There is a  hospital canteen that serves until 2:30pm. We intend to spend a couple of hours at Bethlem and\, if they let us out\, you can either take public transport back to Croydon or continue on our walk for a further few miles\, returning to Coombe Lane tram stop via the Harvester pub in Addington.  In total the walk will be about 6 miles/ 10km. Please wear suitable footwear as it may be wet or muddy underfoot\, although the route has been chosen to avoid known boggy areas. Loo stops Bethlem and Addington. \n  \nPaul D 07941296019
URL:https://www.copsecroydon.co.uk/event/easy-post-christmas-walk/
CATEGORIES:Walking
END:VEVENT
END:VCALENDAR