BEGIN:VCALENDAR
VERSION:2.0
PRODID:-//Croydon Outdoor Pursuits &amp; Social Events Club - ECPv6.15.20//NONSGML v1.0//EN
CALSCALE:GREGORIAN
METHOD:PUBLISH
X-WR-CALNAME:Croydon Outdoor Pursuits &amp; Social Events Club
X-ORIGINAL-URL:https://www.copsecroydon.co.uk
X-WR-CALDESC:Events for Croydon Outdoor Pursuits &amp; Social Events Club
REFRESH-INTERVAL;VALUE=DURATION:PT1H
X-Robots-Tag:noindex
X-PUBLISHED-TTL:PT1H
BEGIN:VTIMEZONE
TZID:Europe/London
BEGIN:DAYLIGHT
TZOFFSETFROM:+0000
TZOFFSETTO:+0100
TZNAME:BST
DTSTART:20220327T010000
END:DAYLIGHT
BEGIN:STANDARD
TZOFFSETFROM:+0100
TZOFFSETTO:+0000
TZNAME:GMT
DTSTART:20221030T010000
END:STANDARD
BEGIN:DAYLIGHT
TZOFFSETFROM:+0000
TZOFFSETTO:+0100
TZNAME:BST
DTSTART:20230326T010000
END:DAYLIGHT
BEGIN:STANDARD
TZOFFSETFROM:+0100
TZOFFSETTO:+0000
TZNAME:GMT
DTSTART:20231029T010000
END:STANDARD
BEGIN:DAYLIGHT
TZOFFSETFROM:+0000
TZOFFSETTO:+0100
TZNAME:BST
DTSTART:20240331T010000
END:DAYLIGHT
BEGIN:STANDARD
TZOFFSETFROM:+0100
TZOFFSETTO:+0000
TZNAME:GMT
DTSTART:20241027T010000
END:STANDARD
BEGIN:DAYLIGHT
TZOFFSETFROM:+0000
TZOFFSETTO:+0100
TZNAME:BST
DTSTART:20250330T010000
END:DAYLIGHT
BEGIN:STANDARD
TZOFFSETFROM:+0100
TZOFFSETTO:+0000
TZNAME:GMT
DTSTART:20251026T010000
END:STANDARD
END:VTIMEZONE
BEGIN:VEVENT
DTSTART;VALUE=DATE:20231227
DTEND;VALUE=DATE:20240102
DTSTAMP:20260420T105241
CREATED:20230928T133634Z
LAST-MODIFIED:20231016T211002Z
UID:4913-1703635200-1704153599@www.copsecroydon.co.uk
SUMMARY:New Year Trip Away  (Cancelled due to unforeseen circumstances)
DESCRIPTION:Details to be announced.
URL:https://www.copsecroydon.co.uk/event/new-year-trip-away/
CATEGORIES:Further Afield,Outdoor Events,Social,Walking
END:VEVENT
BEGIN:VEVENT
DTSTART;TZID=Europe/London:20240107T110000
DTEND;TZID=Europe/London:20240107T210000
DTSTAMP:20260420T105241
CREATED:20231205T193315Z
LAST-MODIFIED:20240105T140452Z
UID:5058-1704625200-1704661200@www.copsecroydon.co.uk
SUMMARY:Walk from Thornton Heath to Streatham via parks\, followed by Ice Hockey match
DESCRIPTION:The usual route from Crystal Palace Station been changed to include Croydon’s “lesser known” parks\, some of which were mentioned by Nicola Hunt in her very interesting “100 spaces in 100 days” COPSE talk in October. \nThese are the afternoon’s details\, which  you can join at any time \nPart 1\n12 noon: meet at Thornton Heath station (either by train\, 468 bus or 50 bus from Croydon) \nA four mile “easy” walk to Streatham High Road via Norbury Hall (or squirrel 🐿) Park\, Norbury Park\, Norwood Grove\, Streatham Common + the Rookery gardens which has toilets + a cafe \nPart 2\nAbout 3.30pm to 6pm: “The Bull” pub (Young’s) on Streatham High Road for either a meal or drinks\, where I might need to book a table inside but there is a large covered garden outside with wall heaters. \nSTOP PRESS 5th Jan:\nI’ve now booked a long table on Sunday afternoon for ten people in the main bar from 3pm onwards on a “first come\, first served basis”. \nPart 3\n6.45pm start: Streatham Redhawks v Oxford City Stars ice hockey match  🏒  🥅   ⛸ where you might need to book advance tickets to avoid queuing = £13.50 (adults) or £8.50 (over 60s + concessions) \nIf you have any questions\, please let me know. \nKeith Southam \nkeithsoutham@yahoo co.uk \nmobile/text = 07749 515486 \n  \n  \n 
URL:https://www.copsecroydon.co.uk/event/walk-from-thornton-heath-to-streatham-via-parks-followed-by-ice-hockey-match/
CATEGORIES:Outdoor Events,Social,Walking
END:VEVENT
BEGIN:VEVENT
DTSTART;TZID=Europe/London:20240114T093000
DTEND;TZID=Europe/London:20240114T170000
DTSTAMP:20260420T105241
CREATED:20231205T194036Z
LAST-MODIFIED:20240114T004337Z
UID:5060-1705224600-1705251600@www.copsecroydon.co.uk
SUMMARY:Green Chain Walk
DESCRIPTION:Meet at West Croydon station by 9.40 for the 9.48 Overground train to Penge West arr 9.58\, calling at Norwood Junction 9.53. You can also get there by 197 bus (alight Penge W. station.) \nFollow the Green Chain Walk via Beckenham Place Park to Mottingham. About 8 miles\, but could be shortened. \nThe Green Chain Walk is a network of walks in S.E. London linking up green spaces. \nWe are going to walk the stage from the edge of Crystal Palace Park to Grove Park. \nIt is an easy fairly level walk through parks and streets. It could be a bit muddy in places. So don’t wear your best shoes! \nAlso it is quite cold for easy urban walking\, so wear warm clothes!. About 7.5 miles with possibilities of leaving the walk early. \nYou can bring a packed lunch but there will be a cafe stop at Beckenham Place Park. \nReturn from Grove Park by train via London (for those with free travel!) or Bromley North. By bus 261 to Bromley then 119 to Croydon. \nBarry
URL:https://www.copsecroydon.co.uk/event/green-chain-walk/
CATEGORIES:Outdoor Events,Walking
ATTACH;FMTTYPE=image/jpeg:https://www.copsecroydon.co.uk/wp-content/uploads/2024/01/Click-for-details-e1705192467442.jpg
ORGANIZER;CN="Barry W":MAILTO:barry.wilson9@btinternet.com
END:VEVENT
BEGIN:VEVENT
DTSTART;TZID=Europe/London:20240121T120000
DTEND;TZID=Europe/London:20240121T170000
DTSTAMP:20260420T105241
CREATED:20231206T170000Z
LAST-MODIFIED:20240114T002207Z
UID:5065-1705838400-1705856400@www.copsecroydon.co.uk
SUMMARY:Croydon Urban Mystery Walk
DESCRIPTION:A Little\, Local Journey of Discovery\nStart time:\n12pm (Noon) \nMeeting Place:\nOutside 109A Church Street\, “The Kenkey House” (near “Reeves Corner”) \nhttps://www.google.co.uk/maps/place/109A+Church+St\,+Croydon+CR0+1RN/@51.3736037\,-0.1043933\,18z/data=!4m5!3m4!1s0x4876073a0777ce25:0x8d26f66448d2a4ae!8m2!3d51.3736707!4d-0.1051872 \n(What3Words location:https://w3w.co/gently.cotton.rope ) \nTo Bring:\nAny food or drink you can consume as we wend our way along our route. No refreshment stops are included in the afternoon. \nTo Wear:\nFingers are crossed for dry weather but please do come clad to keep warm and prepared for any rain forecast nearer the day.\nComfy town footwear should be fine – but not your Sunday best because there will be a couple of leaf-strewn paths that might be a little mucky. \nThe route:\nWill take about three hours at an easy speed\, allowing for observations and comments.\nDistance is about six miles.\nIt will end just into South Croydon.\nWe should be finishing before dusk so there will be no walking on any unlit roads. \nSome specific streets and landmarks will be included. Hopefully\, some interesting information can be gleaned about places we too often just hurry and scurry past. \nIf you are able to enlighten us with your additional knowledge as we go around\, that will be to the benefit of all! \nLooking forward to you all joining me.\nPlease contact me with any queries or if there is any delay in you reaching us on the day. \nMany thanks\,\nIreen (07968 035522)
URL:https://www.copsecroydon.co.uk/event/croydon-urban-walk/
CATEGORIES:Outdoor Events,Walking
ATTACH;FMTTYPE=image/jpeg:https://www.copsecroydon.co.uk/wp-content/uploads/2024/01/Click-for-details-e1705192467442.jpg
ORGANIZER;CN="Ken":MAILTO:ken@brogan.co.uk
END:VEVENT
BEGIN:VEVENT
DTSTART;VALUE=DATE:20240128
DTEND;VALUE=DATE:20240129
DTSTAMP:20260420T105241
CREATED:20240125T181754Z
LAST-MODIFIED:20240127T111658Z
UID:5217-1706400000-1706486399@www.copsecroydon.co.uk
SUMMARY:London Loop walk: Hamsey Green to Oaks Park
DESCRIPTION:We will be continuing the London LOOP\, picking up from where we left off (last March!!) at Hamsey Green\, and probably get as far as Oaks Park (8 and a half miles). But wherever we stop there are buses back into Croydon. \nJust to remind\, the LOOP is the London Outer Orbital Path which goes around London through the greener parts\, parks\, commons\, etc. and occasional delights of suburbia\, and is around 150 miles in all! \nThe terrain is gently undulating\, with some mud – some places of refreshment en route\, you can leave at Kenley\, Coulsdon\, Clockhouse\, Oaks Park. \nTime and place. Meet up at the bus stop outside Fairfield Halls by 10am\, and we’ll take the first 403 bus to Hamsey Green.
URL:https://www.copsecroydon.co.uk/event/london-loop-walk-hamsey-green-to-oaks-park/
CATEGORIES:Walking
ATTACH;FMTTYPE=image/jpeg:https://www.copsecroydon.co.uk/wp-content/uploads/2024/01/Click-for-details-e1705192467442.jpg
END:VEVENT
END:VCALENDAR