BEGIN:VCALENDAR
VERSION:2.0
PRODID:-//Croydon Outdoor Pursuits &amp; Social Events Club - ECPv6.15.20//NONSGML v1.0//EN
CALSCALE:GREGORIAN
METHOD:PUBLISH
X-WR-CALNAME:Croydon Outdoor Pursuits &amp; Social Events Club
X-ORIGINAL-URL:https://www.copsecroydon.co.uk
X-WR-CALDESC:Events for Croydon Outdoor Pursuits &amp; Social Events Club
REFRESH-INTERVAL;VALUE=DURATION:PT1H
X-Robots-Tag:noindex
X-PUBLISHED-TTL:PT1H
BEGIN:VTIMEZONE
TZID:Europe/London
BEGIN:DAYLIGHT
TZOFFSETFROM:+0000
TZOFFSETTO:+0100
TZNAME:BST
DTSTART:20230326T010000
END:DAYLIGHT
BEGIN:STANDARD
TZOFFSETFROM:+0100
TZOFFSETTO:+0000
TZNAME:GMT
DTSTART:20231029T010000
END:STANDARD
BEGIN:DAYLIGHT
TZOFFSETFROM:+0000
TZOFFSETTO:+0100
TZNAME:BST
DTSTART:20240331T010000
END:DAYLIGHT
BEGIN:STANDARD
TZOFFSETFROM:+0100
TZOFFSETTO:+0000
TZNAME:GMT
DTSTART:20241027T010000
END:STANDARD
BEGIN:DAYLIGHT
TZOFFSETFROM:+0000
TZOFFSETTO:+0100
TZNAME:BST
DTSTART:20250330T010000
END:DAYLIGHT
BEGIN:STANDARD
TZOFFSETFROM:+0100
TZOFFSETTO:+0000
TZNAME:GMT
DTSTART:20251026T010000
END:STANDARD
END:VTIMEZONE
BEGIN:VEVENT
DTSTART;TZID=Europe/London:20240310T091500
DTEND;TZID=Europe/London:20240310T160000
DTSTAMP:20260420T080132
CREATED:20240307T012457Z
LAST-MODIFIED:20240308T191049Z
UID:5291-1710062100-1710086400@www.copsecroydon.co.uk
SUMMARY:Countryside Walk - 7ish miles
DESCRIPTION:Here are details of my countryside walk on Sunday 10 March 2024.  Approx 7 miles (ok maybe 8).  An early (for some) start: \n\nMeet at East Croydon train station ticket hall at 9.15am.  (This will delight Barry.) \n\nWe catch the 9.31am train to Chipstead.   We return later in the day from somewhere further down that line\, sorry not sure which station yet\, so if you don’t want to use Oyster / contactless\, suggest buy a return to Tattenham Corner.   Or if you prefer\, buy a return to Chipstead and a single for the rest at the relevant station later.   (The whole line is in Oyster zone 6.) \n\nWe will walk via the outstanding landscape around Chipstead\, Mugswell\, Colley Hill\, Walton Heath etc.   Do bring some packed refreshments and drink with you as there is no planned indoor lunch stop.  However I will try to include a café and or the Sportsman pub at Mogador – but doubtful there will be room or time to sit and have a proper meal.   We will likely reach our destination and return station around 3.30pm where there may be an opportunity for a more leisurely pub stop.  But don’t bank on it. \n\nSorry if details are a bit sketchy\, left it a bit late to check and my first choice has been thwarted by a rail replacement bus between Purley and Redhill.   That does not impact Tattenham Corner line. \n\nWear boots or wellies in expectation of mud. \n\nRegards \nAndrew \n07985 936953
URL:https://www.copsecroydon.co.uk/event/countryside-walk-7ish-miles/
CATEGORIES:Walking
ATTACH;FMTTYPE=image/jpeg:https://www.copsecroydon.co.uk/wp-content/uploads/2024/01/Click-for-details-e1705192467442.jpg
END:VEVENT
BEGIN:VEVENT
DTSTART;TZID=Europe/London:20240317T094000
DTEND;TZID=Europe/London:20240317T170000
DTSTAMP:20260420T080132
CREATED:20240104T160210Z
LAST-MODIFIED:20240312T223137Z
UID:5178-1710668400-1710694800@www.copsecroydon.co.uk
SUMMARY:Isle of Dogs Walk
DESCRIPTION:Here is the Itinerary for the Sunday 17th March Isle of Dogs Walk.\nMeet at East Croydon Station at 9.40am to catch the 9.51 platform 2 to London Bridge.\nLondon Bridge train to Greenwich leaves at 10.16 from platform 4. Arrives Greenwich 10.27. \nFrom Greenwich Station we do a short walk to The Gate Clock (Wetherspoons) pub (Creek Rd next to Cutty Sark DLR stn) for a coffee and toilet break.\n(The reason is that unfortunately there is no cafe on the walk\, but there are toilets) \nThe walk begins at 11.00am at the Greenwich foot Tunnel south (Greenwich) entrance.\nWe expect the walk to conclude at the Ledger House (Wetherspoons) pub on West India Dock Quay around 3.30pm.\nTheir usual reasonably priced menu is available\, but there are plenty of other eating places in the vicinity if you want to pay more.\nThe timings will enable those who want to\, to get back to Croydon and attend the St Patrick’s Day event at Ruskin House in the evening. \nThere are several options for returning back to East Croydon:\n1. Elizabeth Line Canary Wharf to Farringdon station and then direct rail to East Croydon. (my choice)\n2. DLR West India Quay to Shadwell and Overground to West Croydon Station.\n3. Jubilee Line Canary Wharf to Canada Water and Overground to West Croydon Station.\n4. Jubilee Line Canary Wharf to London Bridge and train to East Croydon.\n5.  DLR West India Quay to Lewisham and no75 bus to Croydon.
URL:https://www.copsecroydon.co.uk/event/isle-of-dogs-walk/
CATEGORIES:Further Afield,Walking
ATTACH;FMTTYPE=image/jpeg:https://www.copsecroydon.co.uk/wp-content/uploads/2024/01/Click-for-details-e1705192467442.jpg
END:VEVENT
END:VCALENDAR