BEGIN:VCALENDAR
VERSION:2.0
PRODID:-//Croydon Outdoor Pursuits &amp; Social Events Club - ECPv6.15.20//NONSGML v1.0//EN
CALSCALE:GREGORIAN
METHOD:PUBLISH
X-ORIGINAL-URL:https://www.copsecroydon.co.uk
X-WR-CALDESC:Events for Croydon Outdoor Pursuits &amp; Social Events Club
REFRESH-INTERVAL;VALUE=DURATION:PT1H
X-Robots-Tag:noindex
X-PUBLISHED-TTL:PT1H
BEGIN:VTIMEZONE
TZID:Europe/London
BEGIN:DAYLIGHT
TZOFFSETFROM:+0000
TZOFFSETTO:+0100
TZNAME:BST
DTSTART:20230326T010000
END:DAYLIGHT
BEGIN:STANDARD
TZOFFSETFROM:+0100
TZOFFSETTO:+0000
TZNAME:GMT
DTSTART:20231029T010000
END:STANDARD
BEGIN:DAYLIGHT
TZOFFSETFROM:+0000
TZOFFSETTO:+0100
TZNAME:BST
DTSTART:20240331T010000
END:DAYLIGHT
BEGIN:STANDARD
TZOFFSETFROM:+0100
TZOFFSETTO:+0000
TZNAME:GMT
DTSTART:20241027T010000
END:STANDARD
BEGIN:DAYLIGHT
TZOFFSETFROM:+0000
TZOFFSETTO:+0100
TZNAME:BST
DTSTART:20250330T010000
END:DAYLIGHT
BEGIN:STANDARD
TZOFFSETFROM:+0100
TZOFFSETTO:+0000
TZNAME:GMT
DTSTART:20251026T010000
END:STANDARD
END:VTIMEZONE
BEGIN:VEVENT
DTSTART;TZID=Europe/London:20240511T090000
DTEND;TZID=Europe/London:20240511T170000
DTSTAMP:20260420T045817
CREATED:20240316T002006Z
LAST-MODIFIED:20240505T145612Z
UID:5324-1715418000-1715446800@www.copsecroydon.co.uk
SUMMARY:Westerham Circular (was Chilterns Walk)
DESCRIPTION:The Chilterns Walk is postponed to a later date due to likely industrial action affecting our rail journey \nThis walk will be a circular from Westerham of about 8 miles\, fairly hilly. \nMeet at E.Croydon bus station at 9am for the 119 to Hayes station. From there we will get the 246 bus to Westerham\, leaving at 9.42 or the next one at 10.13 arriving in Westerham at 10.09 (or 10.40) (within the Oyster/Freedom pass zone) \nThere is a large car park to the east of Westerham accessed from the A25.  \nYou can bring a packed lunch\, but there will be a break at the NT Chartwell cafe and a lunch break at the Royal Oak\, Crockham Hill.  You could even take afternoon tea back at Westerham! \nLet me know if you are driving or joining the bus further on from Croydon and we will meet on the Green at Westerham by 10.30. \nBarry \n 
URL:https://www.copsecroydon.co.uk/event/chilterns-walk/
CATEGORIES:Outdoor Events,Walking
ATTACH;FMTTYPE=image/jpeg:https://www.copsecroydon.co.uk/wp-content/uploads/2024/01/Click-for-details-e1705192467442.jpg
ORGANIZER;CN="Barry W":MAILTO:barry.wilson9@btinternet.com
END:VEVENT
BEGIN:VEVENT
DTSTART;TZID=Europe/London:20240516T103000
DTEND;TZID=Europe/London:20240516T183000
DTSTAMP:20260420T045817
CREATED:20240509T112203Z
LAST-MODIFIED:20240509T112203Z
UID:5451-1715855400-1715884200@www.copsecroydon.co.uk
SUMMARY:South Kensington and Hyde Park
DESCRIPTION:On the 16th May we will meet at E. Croydon station at 10.15 for 10.30am to Victoria station then to Gloucester Road station to see sculptures by a lady artist then walk to South Kensington station tunnel to see her posters with anagrams. After that we will visit the Natural History Museum and have a tea break for about an hour. \n\nIn the afternoon we will visit Hyde park where the old Crystal Palace museum used to be (subsequently then moved to Upper Norwood). We will carry on walking to the Royal Society Musical academy museum where you can even play some musical instruments.\n\nBy 4-4.30pm walk back to Victoria station have a meal at Wetherspoons then back to E Croydon station.
URL:https://www.copsecroydon.co.uk/event/south-kensington-and-hyde-park/
CATEGORIES:Cultural,Social,Walking
ATTACH;FMTTYPE=image/jpeg:https://www.copsecroydon.co.uk/wp-content/uploads/2024/01/Click-for-details-e1705192467442.jpg
END:VEVENT
BEGIN:VEVENT
DTSTART;TZID=Europe/London:20240521T190000
DTEND;TZID=Europe/London:20240521T223000
DTSTAMP:20260420T045817
CREATED:20240419T222326Z
LAST-MODIFIED:20240513T145932Z
UID:5429-1716318000-1716330600@www.copsecroydon.co.uk
SUMMARY:Green North Croydon Walk
DESCRIPTION:Keith says:\nThis is almost a repeat of my walk on Sunday January 7th\, where\, after a meal at “The Bull” pub\, a few of us went to the nearby leisure centre + watched the Streatham Redhawks ice hockey match ⛸ 🏒  🥅. \nAs I don’t want to finish too late\, we’ll be meeting much earlier at 7PM outside Thornton Heath Station (which you can get to by train from either East or West Croydon + various buses from Croydon) where the four mile “easy” walk will be as follows => \nThornton Heath Station \nThornton heath recreation ground\, \nNorbury Hall (or Squirrel 🐿) Park \nNorbury Park \nNorwood Grove \n“The Rookery” gardens 🌹🌻  🌳🌲 \nStreatham Common to Streatham High Road\, where the walk will finish about 9pm. \nThere will be an option of either going to “The Rabbit Hole” or “The Bull” pub for drinks  🍺🍷🍵\,  where opposite you can easily get the 109 bus back to central Croydon or go by train from either Streatham Station or Streatham Common Station.
URL:https://www.copsecroydon.co.uk/event/green-north-croydon-walk/
LOCATION:Thornton Heath Station
CATEGORIES:Tuesday Club Nights,Walking
ATTACH;FMTTYPE=image/jpeg:https://www.copsecroydon.co.uk/wp-content/uploads/2024/01/Click-for-details-e1705192467442.jpg
END:VEVENT
BEGIN:VEVENT
DTSTART;TZID=Europe/London:20240526T090000
DTEND;TZID=Europe/London:20240526T180000
DTSTAMP:20260420T045817
CREATED:20240320T204644Z
LAST-MODIFIED:20240524T084205Z
UID:5339-1716714000-1716746400@www.copsecroydon.co.uk
SUMMARY:Beachy Head Walk
DESCRIPTION:Please note that the date of this walk has been changed from Saturday the 25th to Sunday the 26th May. \nThe walk will be from Seaford along the coast to Cuckmere Haven\, then over the Seven Sisters cliffs to Eastdean. A hilly 9 miles with lovely views. \nBring a packed lunch\, but there will be a cafe at Cuckmere Haven park centre and a cafe and pub at Eastdean. \nSo meet at E Croydon by 8.50 to get the 9.04 train to Lewes\, changing there for Seaford arrive 10.25. We will get the bus back from Eastdean to Seaford\, so you need a return ticket to Seaford. \nBarry
URL:https://www.copsecroydon.co.uk/event/beachy-head-walk-2/
CATEGORIES:Further Afield,Outdoor Events,Walking
ATTACH;FMTTYPE=image/jpeg:https://www.copsecroydon.co.uk/wp-content/uploads/2024/01/Click-for-details-e1705192467442.jpg
ORGANIZER;CN="Barry W":MAILTO:barry.wilson9@btinternet.com
END:VEVENT
BEGIN:VEVENT
DTSTART;TZID=Europe/London:20240527T120000
DTEND;TZID=Europe/London:20240527T170000
DTSTAMP:20260420T045817
CREATED:20240325T220313Z
LAST-MODIFIED:20240524T084421Z
UID:5354-1716811200-1716829200@www.copsecroydon.co.uk
SUMMARY:Walk: Dickens in London
DESCRIPTION:On Monday 27th May I’ll be leading a Dickens themed walk around some of parts of London he frequented \nWe will meet at East Croydon station on the main concourse at 12 noon to catch 12.15 train to St Pancras where our walk will start 30 minutes later. An early stop will be at the Charles Dickens Museum in Doughty Street where he and his family lived from 1837-1839. Those who want to look around it’s £12.50/£10.00 and for those who don’t we can grab a cuppa in the cafe/garden. The walk will continue through Farrington\, Holborn and the City of London ending at London Bridge. We expect to see 40+ Dickens related sights. \nAt the end of the walk we can take refreshments at the George Inn loved by Dickens. If you want more information before the walk feel free to ask. If you need to contact me on the day my number is 07931 533785 \nLook forward to seeing lots of you on Monday \nJulie
URL:https://www.copsecroydon.co.uk/event/walk-dickens-in-london/
CATEGORIES:Cultural,Outdoor Events,Walking
ATTACH;FMTTYPE=image/jpeg:https://www.copsecroydon.co.uk/wp-content/uploads/2024/01/Click-for-details-e1705192467442.jpg
END:VEVENT
END:VCALENDAR