BEGIN:VCALENDAR
VERSION:2.0
PRODID:-//Croydon Outdoor Pursuits &amp; Social Events Club - ECPv6.15.20//NONSGML v1.0//EN
CALSCALE:GREGORIAN
METHOD:PUBLISH
X-ORIGINAL-URL:https://www.copsecroydon.co.uk
X-WR-CALDESC:Events for Croydon Outdoor Pursuits &amp; Social Events Club
REFRESH-INTERVAL;VALUE=DURATION:PT1H
X-Robots-Tag:noindex
X-PUBLISHED-TTL:PT1H
BEGIN:VTIMEZONE
TZID:Europe/London
BEGIN:DAYLIGHT
TZOFFSETFROM:+0000
TZOFFSETTO:+0100
TZNAME:BST
DTSTART:20230326T010000
END:DAYLIGHT
BEGIN:STANDARD
TZOFFSETFROM:+0100
TZOFFSETTO:+0000
TZNAME:GMT
DTSTART:20231029T010000
END:STANDARD
BEGIN:DAYLIGHT
TZOFFSETFROM:+0000
TZOFFSETTO:+0100
TZNAME:BST
DTSTART:20240331T010000
END:DAYLIGHT
BEGIN:STANDARD
TZOFFSETFROM:+0100
TZOFFSETTO:+0000
TZNAME:GMT
DTSTART:20241027T010000
END:STANDARD
BEGIN:DAYLIGHT
TZOFFSETFROM:+0000
TZOFFSETTO:+0100
TZNAME:BST
DTSTART:20250330T010000
END:DAYLIGHT
BEGIN:STANDARD
TZOFFSETFROM:+0100
TZOFFSETTO:+0000
TZNAME:GMT
DTSTART:20251026T010000
END:STANDARD
END:VTIMEZONE
BEGIN:VEVENT
DTSTART;TZID=Europe/London:20241005T090000
DTEND;TZID=Europe/London:20241005T170000
DTSTAMP:20260419T152302
CREATED:20240901T204833Z
LAST-MODIFIED:20241004T014045Z
UID:5803-1728118800-1728147600@www.copsecroydon.co.uk
SUMMARY:Walk from Hever Station to Chiddingstone and Markbeech
DESCRIPTION:Meet at East Croydon Station from 09.00 to catch the 09.22 train to Uckfield\, alighting at Hever. \nThis walk will be about 9.5 miles\,  and will start from Hever Station. It will take in Chiddingstone where we will stop for coffee\, then The Rock at Chiddingstone Hoath\, on to the Kentish Horse at Markbeech and back to Hever Station\, or  back to Cowden Station saving 0.7 miles.
URL:https://www.copsecroydon.co.uk/event/walk-from-hever-station-to-chiddingstone-and-markbeech/
CATEGORIES:Outdoor Events,Walking
ATTACH;FMTTYPE=image/jpeg:https://www.copsecroydon.co.uk/wp-content/uploads/2024/01/Click-for-details-e1705192467442.jpg
ORGANIZER;CN="Tim A":MAILTO:timcpfcaldridge@hotmail.com
END:VEVENT
END:VCALENDAR