BEGIN:VCALENDAR
VERSION:2.0
PRODID:-//Croydon Outdoor Pursuits &amp; Social Events Club - ECPv6.15.20//NONSGML v1.0//EN
CALSCALE:GREGORIAN
METHOD:PUBLISH
X-ORIGINAL-URL:https://www.copsecroydon.co.uk
X-WR-CALDESC:Events for Croydon Outdoor Pursuits &amp; Social Events Club
REFRESH-INTERVAL;VALUE=DURATION:PT1H
X-Robots-Tag:noindex
X-PUBLISHED-TTL:PT1H
BEGIN:VTIMEZONE
TZID:Europe/London
BEGIN:DAYLIGHT
TZOFFSETFROM:+0000
TZOFFSETTO:+0100
TZNAME:BST
DTSTART:20170326T010000
END:DAYLIGHT
BEGIN:STANDARD
TZOFFSETFROM:+0100
TZOFFSETTO:+0000
TZNAME:GMT
DTSTART:20171029T010000
END:STANDARD
BEGIN:DAYLIGHT
TZOFFSETFROM:+0000
TZOFFSETTO:+0100
TZNAME:BST
DTSTART:20180325T010000
END:DAYLIGHT
BEGIN:STANDARD
TZOFFSETFROM:+0100
TZOFFSETTO:+0000
TZNAME:GMT
DTSTART:20181028T010000
END:STANDARD
BEGIN:DAYLIGHT
TZOFFSETFROM:+0000
TZOFFSETTO:+0100
TZNAME:BST
DTSTART:20190331T010000
END:DAYLIGHT
BEGIN:STANDARD
TZOFFSETFROM:+0100
TZOFFSETTO:+0000
TZNAME:GMT
DTSTART:20191027T010000
END:STANDARD
BEGIN:DAYLIGHT
TZOFFSETFROM:+0000
TZOFFSETTO:+0100
TZNAME:BST
DTSTART:20200329T010000
END:DAYLIGHT
BEGIN:STANDARD
TZOFFSETFROM:+0100
TZOFFSETTO:+0000
TZNAME:GMT
DTSTART:20201025T010000
END:STANDARD
END:VTIMEZONE
BEGIN:VEVENT
DTSTART;TZID=Europe/London:20190105T093000
DTEND;TZID=Europe/London:20190105T170000
DTSTAMP:20260423T110306
CREATED:20181217T133231Z
LAST-MODIFIED:20190103T081907Z
UID:2036-1546680600-1546707600@www.copsecroydon.co.uk
SUMMARY:New Year Walk from Merstham
DESCRIPTION:A seven mile walk to celebrate the New Year. \nMeet at East Croydon station 9.10 for the 9.27 train to Merstham\, calling at Purley 9.33 and Coulsdon South 9.38. Get a return ticket to Redhill. \nYou can bring a packed lunch\, but we will have a break at the Old Post Coffee House\, Nutfield for lunch. There is also a pub close by. \nWe will approach Redhill on cycle route 21 (but walking!) There are 4 trains per hour back to E. Croydon.
URL:https://www.copsecroydon.co.uk/event/new-year-walk-from-merstham/
CATEGORIES:Walking
END:VEVENT
BEGIN:VEVENT
DTSTART;TZID=Europe/London:20181216T090000
DTEND;TZID=Europe/London:20181216T170000
DTSTAMP:20260423T110306
CREATED:20180930T182420Z
LAST-MODIFIED:20181122T213957Z
UID:1896-1544950800-1544979600@www.copsecroydon.co.uk
SUMMARY:Walk New Malden to Putney
DESCRIPTION:The Beverley Brook Walk is 6 1/2 miles long\, but with links at beginning and end is approx. 8.7 miles.\n\nThe walk starts from New Malden Station and closely follows The Beverley Brook through Wimbledon Common\, Richmond Park\, and Barnes Common to the River Thames upstream of Putney.\n\nThe walk goes through some of South London’s most varied and beautiful countryside.\n\n\nMeet up at East Croydon Station 0905 to get the 0926 Tram to Wimbledon and then the 1004 South Western train from Wimbledon to New Malden arriving 1010.
URL:https://www.copsecroydon.co.uk/event/walk-new-malden-to-putney/
CATEGORIES:Walking
END:VEVENT
BEGIN:VEVENT
DTSTART;VALUE=DATE:20181130
DTEND;VALUE=DATE:20181203
DTSTAMP:20260423T110306
CREATED:20180107T121426Z
LAST-MODIFIED:20180706T181702Z
UID:1099-1543536000-1543795199@www.copsecroydon.co.uk
SUMMARY:Weekend Away at Street Youth Hostel
DESCRIPTION:COPSE has sole usage of Street Youth Hostel in Somerset for the last weekend in November. Walking\, exploring and socializing.  Re-scheduled from March.
URL:https://www.copsecroydon.co.uk/event/streetyha/
LOCATION:Street Youth Hostel\, The Chalet\, Ivythorn Hill\, Street\, Somerset\, BA16 0TZ
CATEGORIES:Walking,Weekend Away
ORGANIZER;CN="Tim A":MAILTO:timcpfcaldridge@hotmail.com
END:VEVENT
BEGIN:VEVENT
DTSTART;VALUE=DATE:20181125
DTEND;VALUE=DATE:20181126
DTSTAMP:20260423T110306
CREATED:20180107T125742Z
LAST-MODIFIED:20180114T115244Z
UID:1122-1543104000-1543190399@www.copsecroydon.co.uk
SUMMARY:35th Gatliff Marathon
DESCRIPTION:Walk 20\, 35 or 50km mostly on footpaths and tracks in the Kent and Surrey countryside in under 10 hours.
URL:https://www.copsecroydon.co.uk/event/gatliff-marathon/
CATEGORIES:Day Event,Walking
END:VEVENT
BEGIN:VEVENT
DTSTART;TZID=Europe/London:20181117T093000
DTEND;TZID=Europe/London:20181117T170000
DTSTAMP:20260423T110306
CREATED:20181109T171413Z
LAST-MODIFIED:20181109T171413Z
UID:1948-1542447000-1542474000@www.copsecroydon.co.uk
SUMMARY:Circular Walk East Horley
DESCRIPTION:This is a 7 miles circular walk where new meets old and built up area merge with farmland\, streams and woodland.\n\nMeet at East Croydon station at 9.30 to get the 9.46 train to Horley. The train stops at Coulsdon South\, Merstham and Redhill.\n\nBring your packed lunch\, make sure you take extra snacks and drinks as there are no pubs or tea rooms on the way.\n\nBut there is The Farmhouse pub is at the end of the walk (1 KM from the station) where we will stop for a drink.\n\n\n\n\n\n—
URL:https://www.copsecroydon.co.uk/event/circular-walk-east-horley/
CATEGORIES:Walking
ORGANIZER;CN="Olga":MAILTO:olga@copsecroydon.co.uk
END:VEVENT
BEGIN:VEVENT
DTSTART;TZID=Europe/London:20181104T093000
DTEND;TZID=Europe/London:20181104T170000
DTSTAMP:20260423T110306
CREATED:20180930T180151Z
LAST-MODIFIED:20180930T180151Z
UID:1879-1541323800-1541350800@www.copsecroydon.co.uk
SUMMARY:Walk
DESCRIPTION:Detail will follow near at the time
URL:https://www.copsecroydon.co.uk/event/walk-2/
CATEGORIES:Walking
END:VEVENT
BEGIN:VEVENT
DTSTART;TZID=Europe/London:20181028T093000
DTEND;TZID=Europe/London:20181028T170000
DTSTAMP:20260423T110306
CREATED:20180325T234158Z
LAST-MODIFIED:20180928T133159Z
UID:1510-1540719000-1540746000@www.copsecroydon.co.uk
SUMMARY:Walk Box Hill to Leatherhead
DESCRIPTION:7 miles
URL:https://www.copsecroydon.co.uk/event/walk-box-hill-to-leatherhead/
CATEGORIES:Walking
ORGANIZER;CN="Olga":MAILTO:olga@copsecroydon.co.uk
END:VEVENT
BEGIN:VEVENT
DTSTART;TZID=Europe/London:20181021T093000
DTEND;TZID=Europe/London:20181021T170000
DTSTAMP:20260423T110306
CREATED:20180926T201450Z
LAST-MODIFIED:20180929T100259Z
UID:1867-1540114200-1540141200@www.copsecroydon.co.uk
SUMMARY:Circular walk from Tonbridge to All Saints Church
DESCRIPTION:Get the 09.49 train at East Croydon\, change at London Bridge arriving at Tonbridge @ 10.37 \n  \n  \nThis is a circular 5 miles walk with a visit to the Chagall Windows at Tudeley Church. Entry £ 3 per head plus guided tour £25  to be split between the group. \n  \n  \nPub lunch in Tudeley at The Poacher & Partridge \n\n  \n\n 
URL:https://www.copsecroydon.co.uk/event/circular-walk-from-tonbridge-to-all-saints-church/
CATEGORIES:Outdoor Events,Walking
END:VEVENT
BEGIN:VEVENT
DTSTART;TZID=Europe/London:20181007T110000
DTEND;TZID=Europe/London:20181007T160000
DTSTAMP:20260423T110306
CREATED:20180926T192955Z
LAST-MODIFIED:20181002T162809Z
UID:1858-1538910000-1538928000@www.copsecroydon.co.uk
SUMMARY:Walk in Happy Valley
DESCRIPTION:5 Miles walk. \nMeet at Coulsdon South station at 11am\n\nTravel options – a) trains from East Croydon station (either platforms 5 or 6) at 10.24am\, 10.38am or 10.52am\n\nOR  – b) either the 60 bus or the 405 bus from park street (Central Croydon)\n\nStop about half way at The Fox pub on Coulsdon Common\, for drinks only. Bring your own packed lunch.\n\nThere’s a drop out option at the nearby bus stop to get the 466 bus back to Croydon).
URL:https://www.copsecroydon.co.uk/event/walk-in-happy-valley/
CATEGORIES:Outdoor Events,Walking
END:VEVENT
BEGIN:VEVENT
DTSTART;TZID=Europe/London:20180930T100000
DTEND;TZID=Europe/London:20180930T170000
DTSTAMP:20260423T110306
CREATED:20180924T135043Z
LAST-MODIFIED:20180929T100547Z
UID:1853-1538301600-1538326800@www.copsecroydon.co.uk
SUMMARY:Circular Walk from Caterham - 6 miles
DESCRIPTION:Bring your own packed lunch. We will stop half way at the Harrow Pub for a drink. \nWe get BUS 407 that leaves West Croydon at 10.08 and arrives at Caterham at 10.40 \nYou can either get on the bus along the way somewhere suitable for you OR \nMeet me at the bus stop in Park Street @ 10.00 \nOR at 10.45 in front of Cateraham train station. \nSome of the 407 bus stops are: \nWest Croydon Station – Whitgift Centre – Park Street – Croydon Flyover – Coombe Road – Aberdeen Road – Swan & Sugar Loaf etc \n 
URL:https://www.copsecroydon.co.uk/event/circular-walk-from-caterham-6-miles/
CATEGORIES:Outdoor Events,Walking
END:VEVENT
BEGIN:VEVENT
DTSTART;TZID=Europe/London:20180930T093000
DTEND;TZID=Europe/London:20180930T170000
DTSTAMP:20260423T110306
CREATED:20180930T181151Z
LAST-MODIFIED:20180930T181151Z
UID:1888-1538299800-1538326800@www.copsecroydon.co.uk
SUMMARY:East Horley circular walk
DESCRIPTION:7 Miles
URL:https://www.copsecroydon.co.uk/event/east-horley-circular-walk/
CATEGORIES:Walking
ORGANIZER;CN="Olga":MAILTO:olga@copsecroydon.co.uk
END:VEVENT
BEGIN:VEVENT
DTSTART;VALUE=DATE:20180815
DTEND;VALUE=DATE:20180816
DTSTAMP:20260423T110306
CREATED:20180325T233741Z
LAST-MODIFIED:20180719T205339Z
UID:1506-1534291200-1534377599@www.copsecroydon.co.uk
SUMMARY:Bentley to Farnham Walk & Wild Swimming
DESCRIPTION:This is a 13 mile walk with a swim at Great Frensham pond.  The pond looks natural but is artificial\, it was dug out in the Middle Ages for the Bishop of Windsor as a fish pond.\n\n\n \n\n\nWe meet at 0915 for the 0934 to Clapham Junction arriving at 0944.  We then catch the 10.00 to Bentley arriving at 11.02.\n\n\n \n\n\nWe walk though a forest and then pick up the Shipwrights way path.  We then continue to our lunch stop at Frensham Great pond\, here you can swim\, I am hopeful the pond is not too dry for a full swim. \n\n\nI have been told that the pond can dry out in Summer\, a paddle is still possible.  \n\n\nThere is a cafe here too\, where we can get a meal.  Dogs are welcome.\n\n\n \n\n\nWe then continue to Farnham on the second part of our walk\, we pass Moor Park House which is not open to the public\, it does have a notice board.  We also see the remains of a WW2 pilbox.\n\n\n \nThe trains from Farnham run every half an hour on our return journey. 
URL:https://www.copsecroydon.co.uk/event/farnham-walk-wild-swimming/
CATEGORIES:Walking
END:VEVENT
BEGIN:VEVENT
DTSTART;VALUE=DATE:20180811
DTEND;VALUE=DATE:20180812
DTSTAMP:20260423T110306
CREATED:20180706T181243Z
LAST-MODIFIED:20180929T100757Z
UID:1677-1533945600-1534031999@www.copsecroydon.co.uk
SUMMARY:Worthing to Littlehampton Walk
DESCRIPTION:An easy 9 mile walk from Worthing to Littlehampton\, via Rustington along the coast. Bring a packed lunch. There is the possibility of a swim in the sea\, so bring your swimming stuff if you are interested. Meet at East Croydon station at 09:45 to catch the 10:03 train to Worthing\, which arrives at 11:08. The return is from Littlehampton so buy a return ticket to Littlehampton.  The walk includes an invite to a buffet tea at Anne’s in Rustington\, so please bring a change of footwear.
URL:https://www.copsecroydon.co.uk/event/worthing-to-littlehampton-walk/
LOCATION:Worthing\, BN11 1UR\, United Kingdom
CATEGORIES:Outdoor Events,Walking
END:VEVENT
BEGIN:VEVENT
DTSTART;VALUE=DATE:20180728
DTEND;VALUE=DATE:20180729
DTSTAMP:20260423T110306
CREATED:20180325T233402Z
LAST-MODIFIED:20180702T120523Z
UID:1502-1532736000-1532822399@www.copsecroydon.co.uk
SUMMARY:Thorney Island Walk
DESCRIPTION:Meet at East Croydon at 0940 for 0953 train to Emsworth.  10 miles around an MOD owned island.\nThis Island was used by the RAF in 1935\, in 1984 it was taken over by the Army and is today a base for the Royal Artillery Regiment.\nIt’s a mix of open grass land and reed beds.\nThe site has a mix of ornithology we could see short eared howls and other bird life.\nThere is a chance to see the church\, this is kept locked.\nWe will stop at the yacht club for lunch\, you can get a drink and rest here.\nThis is a great day out and is not to be missed.\nDogs welcome.
URL:https://www.copsecroydon.co.uk/event/thorney-island-walk/
CATEGORIES:Walking
END:VEVENT
BEGIN:VEVENT
DTSTART;VALUE=DATE:20180713
DTEND;VALUE=DATE:20180716
DTSTAMP:20260423T110306
CREATED:20180325T233005Z
LAST-MODIFIED:20180513T135104Z
UID:1498-1531440000-1531699199@www.copsecroydon.co.uk
SUMMARY:Associates Weekend\, Derbyshire
DESCRIPTION:A hostel weekend away in Derbyshire on the edge of the Peak District National Park. We will be staying at the Glenorchy Centre\, a Grade II Listed building located in a conservation area in Wirksworth. \nWirksworth is an historic market town with access to spectacular countryside. The Cromford & High Peak trail\, Arkwright Mills and the Cromford canal are not far away. The town is well supplied with shops selling anything from clothes to locally-produced food\, fair-trade presents to books\, and antiques to old-fashioned sweets. \nWe have booked the whole hostel\, and with 26 beds\, there is plenty of room. It has all the usual facilities\, including bed linen. \nPublic transport is by E. Midlands trains\, from St. Pancras to Derby and then by bus to Wirksworth. \nThe accommodation will cost will arond £35.00 if we get about 20 people and catering would be about £10-£12 payable on the day.
URL:https://www.copsecroydon.co.uk/event/associates-weekend-derbyshire/
LOCATION:Glenorchy Centre\, Coldwell Street\, Wirksworth\, Derbyshire\, DE4 4FB\, United Kingdom
CATEGORIES:Outdoor Events,Walking,Weekend Away
ORGANIZER;CN="Barry W":MAILTO:barry.wilson9@btinternet.com
END:VEVENT
BEGIN:VEVENT
DTSTART;VALUE=DATE:20180708
DTEND;VALUE=DATE:20180709
DTSTAMP:20260423T110306
CREATED:20180325T232607Z
LAST-MODIFIED:20180706T182646Z
UID:1495-1531008000-1531094399@www.copsecroydon.co.uk
SUMMARY:Hampstead Heath Loop Walk (8 miles)
DESCRIPTION:The walk takes in Mutton Brook and Lutyens Garden Suburb. \nThe lunch stop will be 12.30ish – 1.45pm & the options are:\n“Bull & Bush” pub\, North End Rd.\, NW11 or Golders Hill Cafe\, opposite. \nThen the walk continues in the afternoon onto Hampstead Heath via the ponds. \nThere are several drop in/drop out stages. (E.g. bandstand concert near the cafe at 3pm.)\nExpecting to finish at Hampstead tube station by 4pm. \nMeeting points:\n9 to 9.15am\, East Croydon ticket office\nor\n10.30am at Highgate tube station foyer\nor\n11.00am (approx.) at East Finchley tube station foyer.
URL:https://www.copsecroydon.co.uk/event/london-loop-walk/
CATEGORIES:Walking
END:VEVENT
BEGIN:VEVENT
DTSTART;TZID=Europe/London:20180703T193000
DTEND;TZID=Europe/London:20180703T213000
DTSTAMP:20260423T110306
CREATED:20180322T182528Z
LAST-MODIFIED:20180628T214207Z
UID:1486-1530646200-1530653400@www.copsecroydon.co.uk
SUMMARY:Circular Evening Walk From Warlingham Green
DESCRIPTION:A local walk to enjoy the summer evenings\, 4 miles long. \nCatch the 403 bus at 19.06 from West Croydon (19.16 at former Swan and Sugarloaf pub) to arrive at 19.34. After the walk retire to the White Lion\, Farleigh rd\, just off Warlingham Green. \nBuses back to Croydon at 22.08\, 28\, 49; 23.09\, 29\, 49.
URL:https://www.copsecroydon.co.uk/event/evening-walk/
CATEGORIES:Tuesday Club Nights,Walking
ORGANIZER;CN="Tim A":MAILTO:timcpfcaldridge@hotmail.com
END:VEVENT
BEGIN:VEVENT
DTSTART;VALUE=DATE:20180617
DTEND;VALUE=DATE:20180618
DTSTAMP:20260423T110306
CREATED:20180318T225342Z
LAST-MODIFIED:20180606T205903Z
UID:1424-1529193600-1529279999@www.copsecroydon.co.uk
SUMMARY:New Members & Visitors Walk
DESCRIPTION:Please join us for an easy five mile walk in the beautiful Happy Valley. \nMeet at the 466 bus stop (opposite East Croydon train station) at 10.25 to catch the 466 bus towards Caterham. \nPlease wear comfortable shoes and bring your own packed lunch. We will stop for a drink and a break along the way.
URL:https://www.copsecroydon.co.uk/event/new-members-visitors-walk/
CATEGORIES:Outdoor Events,Walking
ORGANIZER;CN="Olga":MAILTO:olga@copsecroydon.co.uk
END:VEVENT
BEGIN:VEVENT
DTSTART;VALUE=DATE:20180610
DTEND;VALUE=DATE:20180611
DTSTAMP:20260423T110306
CREATED:20180318T224940Z
LAST-MODIFIED:20180603T155836Z
UID:1420-1528588800-1528675199@www.copsecroydon.co.uk
SUMMARY:London Open Gardens
DESCRIPTION:London opens it’s often inaccessable and rarely open gardens to the public. Always good fun as we travel from garden to garden using the best form of public transport available (almost a geek’s tour!). Beware\, lots of walking involved too. \nWe will put together a rough itinerary to make best use of our time and try to vary the gardens we visit. There are often oportunites to pick up food from stalls for lunch\, but would advise bringing something to eat with you. There may be an opportunity to stop in London for a meal in the evening. \nIf you want to come you can buy your ticket online for £15.00. If you buy it on the day it is £20.00.  Purchase tickets in advance at http://www.opensquares.org/2018/home/index.php. \nPlease note that NOT all gardens sell tickets\, so the first one we go to may not be selling tickets. Please try and purchase tickets in advance.
URL:https://www.copsecroydon.co.uk/event/london-open-gardens/
CATEGORIES:Cultural,Outdoor Events,Walking
END:VEVENT
BEGIN:VEVENT
DTSTART;VALUE=DATE:20180603
DTEND;VALUE=DATE:20180604
DTSTAMP:20260423T110306
CREATED:20180318T224607Z
LAST-MODIFIED:20180513T132149Z
UID:1416-1527984000-1528070399@www.copsecroydon.co.uk
SUMMARY:Overton Circular Walk
DESCRIPTION:Join us for a 14 mile circular walk from Overton\, Hampshire exploring the Test River Valley and walking on Watership Down\, inspiration for Richard Adam’s book of the same name. \nFrom Overton\, we will walk to Hannington\, where we will have our first pub stop at The Vine. We then go onto Watership Down and stop at the gallops for a lunch break.\nWe then go along a back road\, and take footpaths back to the train station. A paddle is possible in the river. \nMeet at 0940 at East Croydon Station. We will get the 0951 train to Clapham Junction\, then the 1022 to Overton arriving at 11.15. There is a free car park at the train station for those that wish to drive. Dogs are welcome on this walk. \nSo come along to have a great day out and see where the book Watership Down was thought of.
URL:https://www.copsecroydon.co.uk/event/overton-circular-walk-14-miles/
CATEGORIES:Outdoor Events,Walking
END:VEVENT
BEGIN:VEVENT
DTSTART;VALUE=DATE:20180505
DTEND;VALUE=DATE:20180506
DTSTAMP:20260423T110306
CREATED:20180318T223734Z
LAST-MODIFIED:20180418T084453Z
UID:1408-1525478400-1525564799@www.copsecroydon.co.uk
SUMMARY:Azaleas in Bloom
DESCRIPTION:A COPSE walk to the Isabella Plantation and Richmond Park to see the surreal and psychedelic wonders of the blooming Azalea bushes. If you have never seen the Azaleas\, then it is definitely worth a trip. If you have seen them\, then I imagine that you would want to see them again. It’s quite a short season in bloom\, so if you miss it\, you need to wait another year.   \nAssemble at East Croydon Station at 09:40 for the 09:52 train to Clapham Junction\, then the 10:21 from Clapham Junction to Norbiton arriving 10:37. From Norbiton\, we will walk up to and through the park to the Plantation (direct route around 30 minutes)\, and then around a 1 hour walk over to Richmond. We may take a more scenic route with stops which will add to these walking times. There are frequent trains back from Richmond to East Croydon. Richmond riverside might be worth passing on the way home. \nThere is an alternative option to drive\, with parking in the park near to the plantation at “Spankers Hill” car park or to cycle over from Croydon\, approx 10 miles. Meet the walkers at Isabella Plantation at 11:30am. \nAlso options to cycle over\, around 10 miles from Croydon.
URL:https://www.copsecroydon.co.uk/event/azaleas-in-bloom-richmond-park/
LOCATION:Isabella Plantation\, Richmond Park\, Richmond\, KT2 7NA\, United Kingdom
CATEGORIES:Outdoor Events,Walking
END:VEVENT
BEGIN:VEVENT
DTSTART;VALUE=DATE:20180429
DTEND;VALUE=DATE:20180430
DTSTAMP:20260423T110306
CREATED:20180107T125213Z
LAST-MODIFIED:20180315T190730Z
UID:1119-1524960000-1525046399@www.copsecroydon.co.uk
SUMMARY:Weald Walkers Wander
DESCRIPTION:A walking event with a difference. Solve the clues to find the Checkpoints. Test your map reading skills. Solve the puzzles at the Checkpoints.
URL:https://www.copsecroydon.co.uk/event/weald-walkers-wander-2018/
CATEGORIES:Day Event,Walking
ORGANIZER;CN="Olga":MAILTO:olga@copsecroydon.co.uk
END:VEVENT
BEGIN:VEVENT
DTSTART;VALUE=DATE:20180422
DTEND;VALUE=DATE:20180423
DTSTAMP:20260423T110306
CREATED:20180318T223542Z
LAST-MODIFIED:20180418T085525Z
UID:1406-1524355200-1524441599@www.copsecroydon.co.uk
SUMMARY:South Downs Walk
DESCRIPTION:A roughly ten mile walk along the South Downs from Polegate to Eastbourne Old Town and rail station\, with a stop at Jevington around lunch time\, a chance for a pool swim at the end for a lucky\, plucky few\, and an optional pub visit after that. \nJevington has a pub (Eight Bells) and a Tea Garden\, the latter might make a change as there is an optional pub at end. At Old Town Eastbourne (which is about a mile inland from the seaside resort) there will be a chance to go for a swim at Motcombe pool with a friendly little ‘naturist’ swim group – as the ‘name on the tin’ suggests no cozzies are worn at this session and it is the very best way to go swimming. I can only take about 2 or 3 people with me on the swim\, so indicate your interest asap\, or wait till the day\, and take your chances. You’ll need a towel and £5 entry. The pool is not full size\, but certainly good enough for proper swimming – it has a steady shallow end\, and then a steep drop into a good deep end. \nFor those not swimming\, there is a pub\, The Lamb Inn\, nearby\, one of the oldest in the area and country. They also do food for a pretty reasonable price.  \nMeet East Croydon Railway Station in good time to catch the 9.03am train to Polegate. You will need a day return to Eastbourne.
URL:https://www.copsecroydon.co.uk/event/south-downs-walk/
LOCATION:Polegate\, Polegate\, United Kingdom
CATEGORIES:Outdoor Events,Walking
END:VEVENT
BEGIN:VEVENT
DTSTART;VALUE=DATE:20180325
DTEND;VALUE=DATE:20180326
DTSTAMP:20260423T110306
CREATED:20180107T124659Z
LAST-MODIFIED:20180322T174243Z
UID:1114-1521936000-1522022399@www.copsecroydon.co.uk
SUMMARY:Seven Sisters Walk
DESCRIPTION:A 4 hour linear walk from Seaford to Eastbourne and then a bus back to Seaford. One pub en route in Birling Gap. Bring snacks and drinks. \nMeet in East Croydon to depart for Seaford at 9:30am by car\, around 70 minutes journey. Meet at Frankie’s Beach Cafe on the sea front\, for walking by 11:00. \nPlease contact Richard if you would like to come along and require a lift\, or if you are a driver who  can offer a lift:   rlander147@gmail.com \nRegular buses back to Seaford from Eastbourne take around 30 minutes. \nThe Bus company says: “One of the most scenic bus routes in all of England. Between Seaford and Eastbourne the views are spectacular\, and there are plenty of things to see and do to enjoy a great day out in this magnificent corner of Sussex”
URL:https://www.copsecroydon.co.uk/event/walk-along-the-seven-sisters/
LOCATION:Seven Sisters\, Seven Sisters\, Eastbourne\, BN20 0AB\, United Kingdom
CATEGORIES:Walking
END:VEVENT
BEGIN:VEVENT
DTSTART;VALUE=DATE:20180311
DTEND;VALUE=DATE:20180312
DTSTAMP:20260423T110306
CREATED:20180107T123405Z
LAST-MODIFIED:20180304T222919Z
UID:1107-1520726400-1520812799@www.copsecroydon.co.uk
SUMMARY:Harpenden to St Albans Walk
DESCRIPTION:Join us for a nice day out in Hertfordshire. Walk along the Nickey Trail from Harpenden and then onto St Albans down the Ver Colne Walk. \nAt St Albans\, we can either spend some time in St Albans or continue onto Radlett. \nThe main walk is 8 miles\, the extension to Radlett is another 6 to 7 miles. \nMeet at East Croydon Station at 8:50 for the 09:03 train to London and then a train from St Pancras.
URL:https://www.copsecroydon.co.uk/event/harpenden_walk/
LOCATION:Harpenden\, Harpenden\, AL5 4ST\, United Kingdom
CATEGORIES:Walking
END:VEVENT
BEGIN:VEVENT
DTSTART;VALUE=DATE:20180210
DTEND;VALUE=DATE:20180211
DTSTAMP:20260423T110306
CREATED:20180107T114013Z
LAST-MODIFIED:20180114T124624Z
UID:1078-1518220800-1518307199@www.copsecroydon.co.uk
SUMMARY:Circular Walk from Alfriston
DESCRIPTION:Details to follow
URL:https://www.copsecroydon.co.uk/event/circular-walk-from-alfriston/
CATEGORIES:Walking
END:VEVENT
BEGIN:VEVENT
DTSTART;VALUE=DATE:20180203
DTEND;VALUE=DATE:20180204
DTSTAMP:20260423T110306
CREATED:20180107T113758Z
LAST-MODIFIED:20180107T113758Z
UID:1076-1517616000-1517702399@www.copsecroydon.co.uk
SUMMARY:Local Walk
DESCRIPTION:Details coming soon…
URL:https://www.copsecroydon.co.uk/event/local-walk/
CATEGORIES:Walking
ORGANIZER;CN="Olga":MAILTO:olga@copsecroydon.co.uk
END:VEVENT
BEGIN:VEVENT
DTSTART;TZID=Europe/London:20180128T091500
DTEND;TZID=Europe/London:20180128T170000
DTSTAMP:20260423T110306
CREATED:20180106T205028Z
LAST-MODIFIED:20180120T173736Z
UID:1074-1517130900-1517158800@www.copsecroydon.co.uk
SUMMARY:Walk in London
DESCRIPTION:Join us for a full day walk exploring the lesser known sites of London with a mix of both the ancient and modern.  \nMeet at East Croydon station at 9.15\, to catch the 9.28 train to London Bridge\, calling at Norwood Junction 9.32 and London Bridge 9.48. Anyone meeting at London Bridge\, please wait by the entrance to the Shard by 10.00. \nWe will return from Victoria so only Oyster cards or London return tickets required.  \nYou can bring a packed lunch\, but there will be plenty of places for a coffee or snacks.
URL:https://www.copsecroydon.co.uk/event/walk-in-london/
LOCATION:London Bridge Station\, London\, SE1 3QX\, United Kingdom
CATEGORIES:Cultural,Walking
ORGANIZER;CN="Barry W":MAILTO:barry.wilson9@btinternet.com
END:VEVENT
BEGIN:VEVENT
DTSTART;TZID=Europe/London:20180121T184500
DTEND;TZID=Europe/London:20180121T210900
DTSTAMP:20260423T110306
CREATED:20180106T204708Z
LAST-MODIFIED:20180120T172559Z
UID:1068-1516560300-1516568940@www.copsecroydon.co.uk
SUMMARY:Watch Indoor Ice Hockey Game
DESCRIPTION:Streatham IHC v London Raiders. \nMeet outside Crystal Palace station at Midday for an easy four mile walk following the Capital Ring via Westow park\, Upper Norwood recreation ground\, Biggin wood\, Norwood Grove to Streatham Common. Here we will wander around the wonderful “Rookery” + the nearby “Rookery cafe” for coffee\, tea\, soup\, snacks etc + loos). \nThen a short walk to “The Railway” pub (2 Greyhound Lane) which is next to Streatham Common Station for drinks/meal/coffees to 5.45pm at the latest. See link below of the pub menu. \n\nFood \n\nAt 5.45pm/6pm we will walk to Streatham leisure centre to watch the Ice hockey game between Streatham Redhawks v London Raiders. \nBest buy your ticket online http://tickets.streatham-hockey.co.uk/o/1 or at the venue. – Tickets £10/£6 concessions \nGame starts at 6.45pm \n8.45pm/9pm match should finish. \nMany buses get back into Croydon 50 bus/60 bus/109 bus/250 bus + trains from either Streatham\nor Streatham common stations.
URL:https://www.copsecroydon.co.uk/event/indoor-ice-hockey-game/
LOCATION:Streatham Ice & Leisure Centre\, Streatham High Road\, London\, SW16 6HX\, United Kingdom
CATEGORIES:Social,Walking
END:VEVENT
BEGIN:VEVENT
DTSTART;VALUE=DATE:20180113
DTEND;VALUE=DATE:20180114
DTSTAMP:20260423T110306
CREATED:20180106T203336Z
LAST-MODIFIED:20180114T125153Z
UID:1064-1515801600-1515887999@www.copsecroydon.co.uk
SUMMARY:Circular Walk from Tadworth
DESCRIPTION:A 6 mile circular walk from Tadworth railway station exploring the rolling hills of this beautiful area. \nMeet at East Croydon station @ 9.50am to get the 10.07am train. Buy a return ticket or use Oyster card. \nPlease bring your own packed lunch although we will stop at a pub halfway for a drink.
URL:https://www.copsecroydon.co.uk/event/circular-walk-from-tadworth/
CATEGORIES:Walking
ORGANIZER;CN="Olga":MAILTO:olga@copsecroydon.co.uk
END:VEVENT
END:VCALENDAR