BEGIN:VCALENDAR
VERSION:2.0
PRODID:-//Croydon Outdoor Pursuits &amp; Social Events Club - ECPv6.15.20//NONSGML v1.0//EN
CALSCALE:GREGORIAN
METHOD:PUBLISH
X-WR-CALNAME:Croydon Outdoor Pursuits &amp; Social Events Club
X-ORIGINAL-URL:https://www.copsecroydon.co.uk
X-WR-CALDESC:Events for Croydon Outdoor Pursuits &amp; Social Events Club
REFRESH-INTERVAL;VALUE=DURATION:PT1H
X-Robots-Tag:noindex
X-PUBLISHED-TTL:PT1H
BEGIN:VTIMEZONE
TZID:Europe/London
BEGIN:DAYLIGHT
TZOFFSETFROM:+0000
TZOFFSETTO:+0100
TZNAME:BST
DTSTART:20150329T010000
END:DAYLIGHT
BEGIN:STANDARD
TZOFFSETFROM:+0100
TZOFFSETTO:+0000
TZNAME:GMT
DTSTART:20151025T010000
END:STANDARD
BEGIN:DAYLIGHT
TZOFFSETFROM:+0000
TZOFFSETTO:+0100
TZNAME:BST
DTSTART:20160327T010000
END:DAYLIGHT
BEGIN:STANDARD
TZOFFSETFROM:+0100
TZOFFSETTO:+0000
TZNAME:GMT
DTSTART:20161030T010000
END:STANDARD
BEGIN:DAYLIGHT
TZOFFSETFROM:+0000
TZOFFSETTO:+0100
TZNAME:BST
DTSTART:20170326T010000
END:DAYLIGHT
BEGIN:STANDARD
TZOFFSETFROM:+0100
TZOFFSETTO:+0000
TZNAME:GMT
DTSTART:20171029T010000
END:STANDARD
BEGIN:DAYLIGHT
TZOFFSETFROM:+0000
TZOFFSETTO:+0100
TZNAME:BST
DTSTART:20180325T010000
END:DAYLIGHT
BEGIN:STANDARD
TZOFFSETFROM:+0100
TZOFFSETTO:+0000
TZNAME:GMT
DTSTART:20181028T010000
END:STANDARD
END:VTIMEZONE
BEGIN:VEVENT
DTSTART;VALUE=DATE:20170401
DTEND;VALUE=DATE:20170402
DTSTAMP:20260423T165834
CREATED:20170211T180640Z
LAST-MODIFIED:20170728T203940Z
UID:405-1491004800-1491091199@www.copsecroydon.co.uk
SUMMARY:Tudor Way Part 2
DESCRIPTION:A walk of about 11.5 miles on the West Kent Borders\, not far from Hever
URL:https://www.copsecroydon.co.uk/event/tudor-way-part-2/
CATEGORIES:Outdoor Events,Walking
END:VEVENT
BEGIN:VEVENT
DTSTART;VALUE=DATE:20170325
DTEND;VALUE=DATE:20170326
DTSTAMP:20260423T165834
CREATED:20170211T180513Z
LAST-MODIFIED:20170728T204002Z
UID:403-1490400000-1490486399@www.copsecroydon.co.uk
SUMMARY:Sandhurst Ramble
DESCRIPTION:A ramble following the Blackwater River
URL:https://www.copsecroydon.co.uk/event/sandhurst-ramble/
CATEGORIES:Outdoor Events,Walking
END:VEVENT
BEGIN:VEVENT
DTSTART;VALUE=DATE:20170304
DTEND;VALUE=DATE:20170305
DTSTAMP:20260423T165834
CREATED:20170211T175517Z
LAST-MODIFIED:20170728T204021Z
UID:397-1488585600-1488671999@www.copsecroydon.co.uk
SUMMARY:Bewl Water Walk
DESCRIPTION:An 8-mile walk in Kent near Lamberhurst
URL:https://www.copsecroydon.co.uk/event/bewl-water-walk/
CATEGORIES:Outdoor Events,Walking
END:VEVENT
BEGIN:VEVENT
DTSTART;VALUE=DATE:20170219
DTEND;VALUE=DATE:20170220
DTSTAMP:20260423T165834
CREATED:20170211T175244Z
LAST-MODIFIED:20170728T204035Z
UID:393-1487462400-1487548799@www.copsecroydon.co.uk
SUMMARY:Edenbridge Circular Walk
DESCRIPTION:Wake up those feet after a winter slumber and follow the 2016 Gatliff 20km route. \nThis is your chance to challenge yourself on a distance a little more than what we tend to do on our day walks. Find out what your pace is\, see what it’s like doing part of the Gatliff and follow the actual written route description which entrants used on the day.  Some spare maps will be available for any that may wish to try their map reading ability.  \nBring snack food and a packed lunch.   Soup and hot drink if you can.  Folding mat or plastic bag to sit on can be useful.  Water.   If hot food is desired at the end of the walk there are potential food outlets at Edenbridge.  (If pubs are not doing food there are takeaways and a restaurant.) \nMeet at EAST CROYDON railway station ticket hall at 9am to catch the 9:15am train to Edenbridge.
URL:https://www.copsecroydon.co.uk/event/surrey-ramble/
LOCATION:Edenbridge\, Edenbridge\, TN8 5LS\, United Kingdom
CATEGORIES:Outdoor Events,Walking
ATTACH;FMTTYPE=image/jpeg:https://www.copsecroydon.co.uk/wp-content/uploads/2015/12/Gatliff.jpg
END:VEVENT
BEGIN:VEVENT
DTSTART;VALUE=DATE:20170107
DTEND;VALUE=DATE:20170108
DTSTAMP:20260423T165834
CREATED:20161126T162634Z
LAST-MODIFIED:20170728T204057Z
UID:291-1483747200-1483833599@www.copsecroydon.co.uk
SUMMARY:Walk
DESCRIPTION:Details to follow.
URL:https://www.copsecroydon.co.uk/event/walk/
CATEGORIES:Outdoor Events,Walking
ORGANIZER;CN="Olga":MAILTO:olga@copsecroydon.co.uk
END:VEVENT
BEGIN:VEVENT
DTSTART;VALUE=DATE:20161229
DTEND;VALUE=DATE:20170103
DTSTAMP:20260423T165834
CREATED:20161126T160828Z
LAST-MODIFIED:20170728T204135Z
UID:282-1482969600-1483401599@www.copsecroydon.co.uk
SUMMARY:New Year's Trip
DESCRIPTION:Celebrate the New Year at Combe Martin\, North Devon on the edge of Exmoor National Park. \nThis is a lovely area with an abundance of walks and a beautiful coastline. We will be staying at The Wild Pear Centre  which is booked for our sole use. \nAccommodation cost will be from £72 to £90 depending on numbers.
URL:https://www.copsecroydon.co.uk/event/new-years-trip-2016/
LOCATION:Wild Pear Centre\, King Street  \, Combe Martin \, EX34 0AG\, United Kingdom
CATEGORIES:Outdoor Events,Walking,Weekend Away
ATTACH;FMTTYPE=image/jpeg:https://www.copsecroydon.co.uk/wp-content/uploads/2016/11/wildpearbeacheh5.jpeg
END:VEVENT
BEGIN:VEVENT
DTSTART;VALUE=DATE:20161227
DTEND;VALUE=DATE:20161228
DTSTAMP:20260423T165834
CREATED:20161121T212027Z
LAST-MODIFIED:20170728T204156Z
UID:268-1482796800-1482883199@www.copsecroydon.co.uk
SUMMARY:Post Christmas Walk
DESCRIPTION:Details to follow
URL:https://www.copsecroydon.co.uk/event/post-christmas-walk/
CATEGORIES:Outdoor Events,Walking
END:VEVENT
BEGIN:VEVENT
DTSTART;VALUE=DATE:20161218
DTEND;VALUE=DATE:20161219
DTSTAMP:20260423T165834
CREATED:20161121T211811Z
LAST-MODIFIED:20170728T204214Z
UID:265-1482019200-1482105599@www.copsecroydon.co.uk
SUMMARY:Walk Croydon to Peckham
DESCRIPTION:Meet 9:30am at Croydon Central Library
URL:https://www.copsecroydon.co.uk/event/walk-croydon-to-peckham/
CATEGORIES:Outdoor Events,Walking
END:VEVENT
BEGIN:VEVENT
DTSTART;VALUE=DATE:20160924
DTEND;VALUE=DATE:20160925
DTSTAMP:20260423T165834
CREATED:20160831T191448Z
LAST-MODIFIED:20170728T204233Z
UID:208-1474675200-1474761599@www.copsecroydon.co.uk
SUMMARY:Walk around Box Hill
DESCRIPTION:Meet at West Croydon Station at 9:25sm. \nFurther details to follow.
URL:https://www.copsecroydon.co.uk/event/walk-around-box-hill/
CATEGORIES:Outdoor Events,Walking
ORGANIZER;CN="Olga":MAILTO:olga@copsecroydon.co.uk
END:VEVENT
BEGIN:VEVENT
DTSTART;VALUE=DATE:20160918
DTEND;VALUE=DATE:20160919
DTSTAMP:20260423T165834
CREATED:20160831T191313Z
LAST-MODIFIED:20170728T204301Z
UID:203-1474156800-1474243199@www.copsecroydon.co.uk
SUMMARY:Walk along the Wandle
DESCRIPTION:About nine miles heading towards Ewell. Further\ndetails to follow.
URL:https://www.copsecroydon.co.uk/event/walk-along-the-wandle/
CATEGORIES:Outdoor Events,Walking
END:VEVENT
BEGIN:VEVENT
DTSTART;TZID=Europe/London:20160904T090000
DTEND;TZID=Europe/London:20160904T190000
DTSTAMP:20260423T165834
CREATED:20160831T190331Z
LAST-MODIFIED:20170730T140018Z
UID:190-1472979600-1473015600@www.copsecroydon.co.uk
SUMMARY:Canal Walk plus Boat Trip
DESCRIPTION:A six mile walk followed by some “messing about on the water” \nThis is a boat trip and walk along the Regents Canal\, from Little Venice to the Thames path.  At this point we will use clipper to get back to London Bridge for the train back to East Croydon.\nMeet at East Croydon Station at 9am for the 09.30 train to London Victoria.  Then the tube to Paddington\, Central Line and on to catch the 11 am London Waterbus (a barge that runs from Little Venice to Camden – cost £8.50).  We will have a break at Camden for a drink\, before walking along the  Regents Canal though Islington\, Mile End and onto the Thames. \nOnce at the Thames\, and at the end of our walk\, we can catch clipper to London Bridge.  for trains to East Croyden. \nDogs not allowed on the Barge\, so if you want to meet me at Camden and bring your dog you are most welcome. \nLunch can be enjoyed at one of the many places along the canal\, or you can bring a packed lunch and eat it alongside the canal.\nThis is a lovely way to see the best of London in one day.\nHope you join me… \n 
URL:https://www.copsecroydon.co.uk/event/canal-walk-plus-boat-trip/
CATEGORIES:Outdoor Events,Walking
END:VEVENT
BEGIN:VEVENT
DTSTART;TZID=Europe/London:20160815T103000
DTEND;TZID=Europe/London:20160815T180000
DTSTAMP:20260423T165834
CREATED:20160820T083013Z
LAST-MODIFIED:20170728T204322Z
UID:13-1471257000-1471284000@www.copsecroydon.co.uk
SUMMARY:Godalming Walk and Picnic
DESCRIPTION:Meet at East Croydon
URL:https://www.copsecroydon.co.uk/event/godalming-walk-and-picnic/
CATEGORIES:Outdoor Events,Walking
END:VEVENT
END:VCALENDAR