BEGIN:VCALENDAR
VERSION:2.0
PRODID:-//Croydon Outdoor Pursuits &amp; Social Events Club - ECPv6.15.20//NONSGML v1.0//EN
CALSCALE:GREGORIAN
METHOD:PUBLISH
X-WR-CALNAME:Croydon Outdoor Pursuits &amp; Social Events Club
X-ORIGINAL-URL:https://www.copsecroydon.co.uk
X-WR-CALDESC:Events for Croydon Outdoor Pursuits &amp; Social Events Club
REFRESH-INTERVAL;VALUE=DURATION:PT1H
X-Robots-Tag:noindex
X-PUBLISHED-TTL:PT1H
BEGIN:VTIMEZONE
TZID:Europe/London
BEGIN:DAYLIGHT
TZOFFSETFROM:+0000
TZOFFSETTO:+0100
TZNAME:BST
DTSTART:20250330T010000
END:DAYLIGHT
BEGIN:STANDARD
TZOFFSETFROM:+0100
TZOFFSETTO:+0000
TZNAME:GMT
DTSTART:20251026T010000
END:STANDARD
BEGIN:DAYLIGHT
TZOFFSETFROM:+0000
TZOFFSETTO:+0100
TZNAME:BST
DTSTART:20260329T010000
END:DAYLIGHT
BEGIN:STANDARD
TZOFFSETFROM:+0100
TZOFFSETTO:+0000
TZNAME:GMT
DTSTART:20261025T010000
END:STANDARD
BEGIN:DAYLIGHT
TZOFFSETFROM:+0000
TZOFFSETTO:+0100
TZNAME:BST
DTSTART:20270328T010000
END:DAYLIGHT
BEGIN:STANDARD
TZOFFSETFROM:+0100
TZOFFSETTO:+0000
TZNAME:GMT
DTSTART:20271031T010000
END:STANDARD
END:VTIMEZONE
BEGIN:VEVENT
DTSTART;TZID=Europe/London:20260419T140000
DTEND;TZID=Europe/London:20260419T180000
DTSTAMP:20260423T094508
CREATED:20260413T215328Z
LAST-MODIFIED:20260413T215610Z
UID:7233-1776607200-1776621600@www.copsecroydon.co.uk
SUMMARY:St Georges Day - Trafalgar Square
DESCRIPTION:The celebration\nThe Day is a celebration organized by the London Mayor and is a free event in Trafalgar Square running from 12.00 to 6.00. There will be live music\, dancing\, workshops . crafts and food stalls. The last act last year was a five-piece folk band with a caller and dancing in the square attended by some of the Chelsa pensioners who were really joining in.\n\n www.london.gov.uk/events/st-georges-day-2026\n\nAfter the celebration\nAfter the event we can go for a meal in Chinatown or go to the Hippodrome which is a really interesting place to visit with the history of its various incarnations over the years from the Talk of the Town\, Stringfellows to its current use. There is a very good Chinese restaurant in the basement which I would like to try.\nI am not intending we will go for the full six hours but for the second half of the afternoon.\n\nWhere to meet\nMeeting Time : 2.00 at East Croydon. We will get a train to Charing Cross and head straight to Trafalgar Square. The forecast is not looking great at the moment but hopefully will change.\n\n\nWilliam E
URL:https://www.copsecroydon.co.uk/event/st-georges-day-trafalgar-square/
END:VEVENT
BEGIN:VEVENT
DTSTART;TZID=Europe/London:20260421T201500
DTEND;TZID=Europe/London:20260421T220000
DTSTAMP:20260423T094508
CREATED:20251205T163847Z
LAST-MODIFIED:20260420T163523Z
UID:7019-1776802500-1776808800@www.copsecroydon.co.uk
SUMMARY:Happy Valley - talk by Dominic North
DESCRIPTION:Dominic comes highly recommended by a couple of COPSErs who attended his talk elsewhere. \nHe is a Marshal at Happy Valley\, and an excellent speaker on the management of one of our favourite open spaces around Croydon. He will cover wildlife\, walking\, conservation and biodiversity. \nDon’t miss it.
URL:https://www.copsecroydon.co.uk/event/happy-valley-talk-by-dominic-north/
LOCATION:South Croydon United Church Hall\, Aberdeen Road\, South Croydon\, CR0 1EQ\, United Kingdom
CATEGORIES:Tuesday Club Nights
ATTACH;FMTTYPE=image/png:https://www.copsecroydon.co.uk/wp-content/uploads/2025/12/Screenshot-2026-01-23-005535.png
ORGANIZER;CN="Ken":MAILTO:ken@brogan.co.uk
END:VEVENT
BEGIN:VEVENT
DTSTART;TZID=Europe/London:20260426T083000
DTEND;TZID=Europe/London:20260426T170000
DTSTAMP:20260423T094508
CREATED:20251220T212956Z
LAST-MODIFIED:20260403T171423Z
UID:7053-1777192200-1777222800@www.copsecroydon.co.uk
SUMMARY:Weald Walkers Wander - Lingfield
DESCRIPTION:The Weald Walkers Wander is an 8 mile Treasure Hunt\, solving clues and testing your map reading skills. \nStart & finish: Lingfield & Dormansland Community Centre\, High Street\, Lingfield\, RH7 6AB\nThe start times are between 8.45am and 9.30am in order to depart between 9.15 and 10.00\nPlease click the below link for further details. \nWeald Walkers Wander\n 
URL:https://www.copsecroydon.co.uk/event/weald-walkers-wander-details-coming-soon/
ATTACH;FMTTYPE=image/png:https://www.copsecroydon.co.uk/wp-content/uploads/2025/12/Screenshot-2026-01-23-005535.png
END:VEVENT
BEGIN:VEVENT
DTSTART;TZID=Europe/London:20260428T201500
DTEND;TZID=Europe/London:20260428T220000
DTSTAMP:20260423T094508
CREATED:20251205T164016Z
LAST-MODIFIED:20251205T164016Z
UID:7021-1777407300-1777413600@www.copsecroydon.co.uk
SUMMARY:Sally and Tim's Latest Epic Journey
DESCRIPTION:
URL:https://www.copsecroydon.co.uk/event/sally-and-tims-latest-epic-journey/
LOCATION:South Croydon United Church Hall\, Aberdeen Road\, South Croydon\, CR0 1EQ\, United Kingdom
CATEGORIES:Tuesday Club Nights
END:VEVENT
BEGIN:VEVENT
DTSTART;TZID=Europe/London:20260502T090000
DTEND;TZID=Europe/London:20260502T170000
DTSTAMP:20260423T094508
CREATED:20260408T020416Z
LAST-MODIFIED:20260422T230425Z
UID:7230-1777712400-1777741200@www.copsecroydon.co.uk
SUMMARY:Hastings to Fairlight and back
DESCRIPTION:Hello copsers\n\nUpdate \n\n\nA fair number of you joined me on a walk from Hastings to Winchelsea last June.  The first half was very scenic\, the second half a bit dull.\n\nSo this time the plan is to walk from Hastings Railway Station to the Cliff Railway\, stopping for seafood if desired.  We will ascend the Cliff Railway then walk along the coast path to Hastings Country Park\, diverting to the Dripping Well.  We will then stop for lunch at the Fairlight Visitor Centre\, about 4 hilly miles.  Buses run hourly from Fairlight back to Hastings.\n\nAfter lunch we will return to Hastings via the “high road” and back down the Cliff Railway where we can finish up with fish and chips or pop in to the Wetherspoons (or both!) on the way to the railway station.\n\nIf the weather forecast a few days before is bad but a lot better on either the Sunday or Monday\, then I may change the date.  I will decide by the Thursday evening before\, so check your e-mails.\n\n\n\nHow long is the walk\nAbout 8 miles and hilly in parts.\n\n\nHow to get there \nTrain from East Croydon to Hastings departing at 09.10 am and arriving at 10.58.   The train fare with a railcard is £26.15 return\n\n\n———————————————————————————————————————————————————————————————————————–\nI will be leading a walk from Hastings Railway Station through Hastings Country Park to Fairlight Visitor Centre and back to Hastings via the “high road” on Saturday 2nd of May.  It is about 8 miles long\, but hilly.\n\nFrom Croydon  you can catch a train to Hastings at 9.10 am\, arriving at 10.58.\n\n\n\n\n After lunch we will return to Hastings via the “high road” and back down the Cliff Railway where we can finish up with fish and chips or pop in to the Wetherspoons (or both!) on the way to the railway station.\n\nIf the weather forecast a few days before is bad but a lot better on either the Sunday or Monday\, then I may change the date.  I will decide by the Thursday evening before\, so check your e-mails.  The train fare with a railcard is £26.15 return\, though I expect Andy will tell you to get split fares to save money – please advise!\n\nCheers\n\nTim\n\n\n\nGuidance on Walking\, Cycling and Camping – Croydon Outdoor Pursuits & Social Events Club
URL:https://www.copsecroydon.co.uk/event/hastings-to-fairlight-and-back-further-details-coming-soon/
END:VEVENT
BEGIN:VEVENT
DTSTART;TZID=Europe/London:20260505T201500
DTEND;TZID=Europe/London:20260505T220000
DTSTAMP:20260423T094508
CREATED:20260403T171743Z
LAST-MODIFIED:20260403T171753Z
UID:7212-1778012100-1778018400@www.copsecroydon.co.uk
SUMMARY:Captions & Kit
DESCRIPTION:
URL:https://www.copsecroydon.co.uk/event/captions-kit-4/
LOCATION:South Croydon United Church Hall\, Aberdeen Road\, South Croydon\, CR0 1EQ\, United Kingdom
CATEGORIES:Tuesday Club Nights
END:VEVENT
BEGIN:VEVENT
DTSTART;TZID=Europe/London:20260508T100000
DTEND;TZID=Europe/London:20260510T170000
DTSTAMP:20260423T094508
CREATED:20251220T213220Z
LAST-MODIFIED:20260315T142548Z
UID:7055-1778234400-1778432400@www.copsecroydon.co.uk
SUMMARY:Holmbury Happening - POSTPONED
DESCRIPTION:
URL:https://www.copsecroydon.co.uk/event/holmbury-happening-details-coming-soon/
END:VEVENT
BEGIN:VEVENT
DTSTART;TZID=Europe/London:20260509T090000
DTEND;TZID=Europe/London:20260509T170000
DTSTAMP:20260423T094508
CREATED:20260422T230817Z
LAST-MODIFIED:20260422T230817Z
UID:7253-1778317200-1778346000@www.copsecroydon.co.uk
SUMMARY:Loop walk - Harold Wood to Rainham - details coming soon
DESCRIPTION:
URL:https://www.copsecroydon.co.uk/event/loop-walk-harold-wood-to-rainham-details-coming-soon/
END:VEVENT
BEGIN:VEVENT
DTSTART;TZID=Europe/London:20260510T110000
DTEND;TZID=Europe/London:20260510T170000
DTSTAMP:20260423T094508
CREATED:20260422T231410Z
LAST-MODIFIED:20260422T231601Z
UID:7255-1778410800-1778432400@www.copsecroydon.co.uk
SUMMARY:Streatham Common Kite Day 2026 - details coming soon
DESCRIPTION:Streatham Common Kite Day
URL:https://www.copsecroydon.co.uk/event/streatham-common-kite-day-details-coming-soon/
END:VEVENT
BEGIN:VEVENT
DTSTART;TZID=Europe/London:20260512T201500
DTEND;TZID=Europe/London:20260512T220000
DTSTAMP:20260423T094508
CREATED:20260403T171915Z
LAST-MODIFIED:20260403T171915Z
UID:7215-1778616900-1778623200@www.copsecroydon.co.uk
SUMMARY:Event tba
DESCRIPTION:
URL:https://www.copsecroydon.co.uk/event/event-tba-10/
LOCATION:South Croydon United Church Hall\, Aberdeen Road\, South Croydon\, CR0 1EQ\, United Kingdom
CATEGORIES:Tuesday Club Nights
END:VEVENT
BEGIN:VEVENT
DTSTART;TZID=Europe/London:20260516T090000
DTEND;TZID=Europe/London:20260516T170000
DTSTAMP:20260423T094508
CREATED:20260422T231758Z
LAST-MODIFIED:20260422T231849Z
UID:7257-1778922000-1778950800@www.copsecroydon.co.uk
SUMMARY:The Cuckmere Pilgrims Path walk - details coming soon
DESCRIPTION:Cuckmere Pilgrim Path \n 
URL:https://www.copsecroydon.co.uk/event/the-cuckmere-pilgrims-path-walk-details-coming-soon/
END:VEVENT
BEGIN:VEVENT
DTSTART;TZID=Europe/London:20260519T201500
DTEND;TZID=Europe/London:20260519T220000
DTSTAMP:20260423T094508
CREATED:20260403T172108Z
LAST-MODIFIED:20260403T172108Z
UID:7219-1779221700-1779228000@www.copsecroydon.co.uk
SUMMARY:Event tba
DESCRIPTION:
URL:https://www.copsecroydon.co.uk/event/event-tba-11/
LOCATION:South Croydon United Church Hall\, Aberdeen Road\, South Croydon\, CR0 1EQ\, United Kingdom
CATEGORIES:Tuesday Club Nights
END:VEVENT
BEGIN:VEVENT
DTSTART;TZID=Europe/London:20260523T100000
DTEND;TZID=Europe/London:20260523T170000
DTSTAMP:20260423T094508
CREATED:20260422T232155Z
LAST-MODIFIED:20260422T232256Z
UID:7260-1779530400-1779555600@www.copsecroydon.co.uk
SUMMARY:Museum of the home\, Hackney City Farm and the Regents Canal - details coming soon
DESCRIPTION:Home – Museum of the Home \nHackney City Farm London \nRegent’s Canal | London Canals | Canal & River Trust
URL:https://www.copsecroydon.co.uk/event/museum-of-the-home-hackney-city-farm-and-the-regents-canal-details-coming-soon/
END:VEVENT
BEGIN:VEVENT
DTSTART;TZID=Europe/London:20260526T203000
DTEND;TZID=Europe/London:20260526T223000
DTSTAMP:20260423T094508
CREATED:20260403T172209Z
LAST-MODIFIED:20260403T172209Z
UID:7221-1779827400-1779834600@www.copsecroydon.co.uk
SUMMARY:Builders Arms Quiz
DESCRIPTION:
URL:https://www.copsecroydon.co.uk/event/builders-arms-quiz-9/
CATEGORIES:Tuesday Club Nights
END:VEVENT
BEGIN:VEVENT
DTSTART;TZID=Europe/London:20260531T100000
DTEND;TZID=Europe/London:20260531T170000
DTSTAMP:20260423T094508
CREATED:20260422T232414Z
LAST-MODIFIED:20260422T232414Z
UID:7263-1780221600-1780246800@www.copsecroydon.co.uk
SUMMARY:Green space walk - details coming soon
DESCRIPTION:
URL:https://www.copsecroydon.co.uk/event/green-space-walk-details-coming-soon-2/
END:VEVENT
BEGIN:VEVENT
DTSTART;TZID=Europe/London:20260608T080000
DTEND;TZID=Europe/London:20260621T170000
DTSTAMP:20260423T094508
CREATED:20260422T234819Z
LAST-MODIFIED:20260422T234819Z
UID:7265-1780905600-1782061200@www.copsecroydon.co.uk
SUMMARY:Camping South West Coast Path - details coming soon
DESCRIPTION:
URL:https://www.copsecroydon.co.uk/event/camping-south-west-coast-path-details-coming-soon/
END:VEVENT
BEGIN:VEVENT
DTSTART;TZID=Europe/London:20260620T080000
DTEND;TZID=Europe/London:20260621T170000
DTSTAMP:20260423T094508
CREATED:20251225T155104Z
LAST-MODIFIED:20251225T155104Z
UID:7068-1781942400-1782061200@www.copsecroydon.co.uk
SUMMARY:Stonehenge Midsummer Solstice - details coming soom
DESCRIPTION:
URL:https://www.copsecroydon.co.uk/event/stonehenge-midsummer-solstice-details-coming-soom/
END:VEVENT
BEGIN:VEVENT
DTSTART;TZID=Europe/London:20260627T100000
DTEND;TZID=Europe/London:20260627T170000
DTSTAMP:20260423T094508
CREATED:20260422T235735Z
LAST-MODIFIED:20260423T000328Z
UID:7267-1782554400-1782579600@www.copsecroydon.co.uk
SUMMARY:Southdown Walk - details coming soon
DESCRIPTION:
URL:https://www.copsecroydon.co.uk/event/southdown-walk/
END:VEVENT
BEGIN:VEVENT
DTSTART;TZID=Europe/London:20260630T201500
DTEND;TZID=Europe/London:20260630T220000
DTSTAMP:20260423T094508
CREATED:20260403T172353Z
LAST-MODIFIED:20260403T172353Z
UID:7223-1782850500-1782856800@www.copsecroydon.co.uk
SUMMARY:Visitors' Open Evening
DESCRIPTION:
URL:https://www.copsecroydon.co.uk/event/visitors-open-evening-6/
LOCATION:South Croydon United Church Hall\, Aberdeen Road\, South Croydon\, CR0 1EQ\, United Kingdom
CATEGORIES:Tuesday Club Nights
END:VEVENT
BEGIN:VEVENT
DTSTART;TZID=Europe/London:20260705T100000
DTEND;TZID=Europe/London:20260705T170000
DTSTAMP:20260423T094508
CREATED:20260423T001338Z
LAST-MODIFIED:20260423T001338Z
UID:7279-1783245600-1783270800@www.copsecroydon.co.uk
SUMMARY:Visitors' Ramble or Cycle Ride - details coming soon
DESCRIPTION:
URL:https://www.copsecroydon.co.uk/event/visitors-ramble-or-cycle-ride-details-coming-soon/
END:VEVENT
BEGIN:VEVENT
DTSTART;TZID=Europe/London:20260712T100000
DTEND;TZID=Europe/London:20260712T170000
DTSTAMP:20260423T094508
CREATED:20260423T000549Z
LAST-MODIFIED:20260423T000549Z
UID:7272-1783850400-1783875600@www.copsecroydon.co.uk
SUMMARY:Capital Ring Walk 8 - details coming soon
DESCRIPTION:
URL:https://www.copsecroydon.co.uk/event/capital-ring-walk-8-details-coming-soon/
END:VEVENT
BEGIN:VEVENT
DTSTART;TZID=Europe/London:20260718T120000
DTEND;TZID=Europe/London:20260718T223000
DTSTAMP:20260423T094508
CREATED:20260317T233409Z
LAST-MODIFIED:20260318T134615Z
UID:7178-1784376000-1784413800@www.copsecroydon.co.uk
SUMMARY:Ruskin House Garden Party
DESCRIPTION:COPSE will be enjoying the Annual Folk & Blues Festival in the rear garden of Ruskin House\, 23 Coombe Rd.\, CR0 1BD.  12 Noon to 10.30pm.  £8 on door\, cash or card.  Live music throughout the afternoon and evening\, plus side-stalls and refreshments\, including a bar.
URL:https://www.copsecroydon.co.uk/event/ruskin-house-garden-party-4/
ATTACH;FMTTYPE=image/png:https://www.copsecroydon.co.uk/wp-content/uploads/2025/12/Screenshot-2026-01-23-005535.png
END:VEVENT
BEGIN:VEVENT
DTSTART;TZID=Europe/London:20260726T100000
DTEND;TZID=Europe/London:20260726T170000
DTSTAMP:20260423T094508
CREATED:20260423T000806Z
LAST-MODIFIED:20260423T000806Z
UID:7274-1785060000-1785085200@www.copsecroydon.co.uk
SUMMARY:Sussex market town  - details coming soon
DESCRIPTION:
URL:https://www.copsecroydon.co.uk/event/sussex-market-town-details-coming-soon/
END:VEVENT
BEGIN:VEVENT
DTSTART;TZID=Europe/London:20260731T100000
DTEND;TZID=Europe/London:20260808T170000
DTSTAMP:20260423T094508
CREATED:20251220T214115Z
LAST-MODIFIED:20251220T214115Z
UID:7059-1785492000-1786208400@www.copsecroydon.co.uk
SUMMARY:Sidmouth Folk Festival - details coming soon
DESCRIPTION:
URL:https://www.copsecroydon.co.uk/event/sidmouth-folk-festival-details-coming-soon/
END:VEVENT
BEGIN:VEVENT
DTSTART;TZID=Europe/London:20260913T080000
DTEND;TZID=Europe/London:20260918T170000
DTSTAMP:20260423T094508
CREATED:20251220T215302Z
LAST-MODIFIED:20251220T215302Z
UID:7061-1789286400-1789750800@www.copsecroydon.co.uk
SUMMARY:Manor and Ashbury Resort Okehampton
DESCRIPTION:Please contact Ireen if you are interested in going or have any queries. \nManor & Ashbury Resorts – Leisure\, Craft\, Spa\, Golf and Sports
URL:https://www.copsecroydon.co.uk/event/manor-and-ashbury-resort-okehampton/
END:VEVENT
BEGIN:VEVENT
DTSTART;TZID=Europe/London:20261010T190000
DTEND;TZID=Europe/London:20261010T220000
DTSTAMP:20260423T094508
CREATED:20260423T001003Z
LAST-MODIFIED:20260423T001039Z
UID:7276-1791658800-1791669600@www.copsecroydon.co.uk
SUMMARY:St Matthews Quiz night (Redhill) - details coming soon
DESCRIPTION:
URL:https://www.copsecroydon.co.uk/event/st-matthews-quiz-night-redhill/
END:VEVENT
BEGIN:VEVENT
DTSTART;TZID=Europe/London:20261017T063000
DTEND;TZID=Europe/London:20261017T170000
DTSTAMP:20260423T094508
CREATED:20251220T215409Z
LAST-MODIFIED:20260315T144248Z
UID:7063-1792218600-1792256400@www.copsecroydon.co.uk
SUMMARY:The 42nd Gatliff Marathon - Edenbridge
DESCRIPTION:The Gatliff Marathon is an annual challenge walk\, jog or run 25 or 50km mostly on footpaths and tracks in the Kent\, Surrey and Sussex countryside. \nThe challenge is to complete the event in under 10 hours\, following the route directions and checking in at each of the checkpoints. \nPlease click the below link for information and details on how to enter. \nGatliff Marathon
URL:https://www.copsecroydon.co.uk/event/gatliff-marathon-details-coming-soon/
END:VEVENT
END:VCALENDAR